Package: BiocBaseUtils Version: 1.9.0 Command: /home/rapidbuild/bbs-3.21-bioc-rapid/R/bin/R CMD check --install=check:BiocBaseUtils.install-out.txt --library=/home/rapidbuild/bbs-3.21-bioc-rapid/R/site-library --timings BiocBaseUtils_1.9.0.tar.gz StartedAt: 2025-02-05 07:59:38 -0500 (Wed, 05 Feb 2025) EndedAt: 2025-02-05 08:00:04 -0500 (Wed, 05 Feb 2025) EllapsedTime: 26.0 seconds RetCode: 0 Status: OK CheckDir: BiocBaseUtils.Rcheck Warnings: 0