Package: BSgenome Version: 1.75.1 Command: /home/rapidbuild/bbs-3.21-bioc-rapid/R/bin/R CMD INSTALL BSgenome StartedAt: 2025-02-11 06:23:02 -0500 (Tue, 11 Feb 2025) EndedAt: 2025-02-11 06:23:36 -0500 (Tue, 11 Feb 2025) EllapsedTime: 33.7 seconds RetCode: 0 Status: OK