Package: AnnotationHubData Version: 1.37.0 Command: /home/rapidbuild/bbs-3.21-bioc-rapid/R/bin/R CMD INSTALL AnnotationHubData StartedAt: 2025-02-05 06:26:23 -0500 (Wed, 05 Feb 2025) EndedAt: 2025-02-05 06:27:00 -0500 (Wed, 05 Feb 2025) EllapsedTime: 37.3 seconds RetCode: 0 Status: OK