Package: AnnotationHub Version: 3.15.0 Command: /home/rapidbuild/bbs-3.21-bioc-rapid/R/bin/R CMD INSTALL AnnotationHub StartedAt: 2025-02-11 06:19:27 -0500 (Tue, 11 Feb 2025) EndedAt: 2025-02-11 06:19:42 -0500 (Tue, 11 Feb 2025) EllapsedTime: 14.2 seconds RetCode: 0 Status: OK