Package: AnnotationHub Version: 3.99.0 Command: /home/rapidbuild/bbs-3.22-bioc-rapid/R/bin/R CMD check --install=check:AnnotationHub.install-out.txt --library=/home/rapidbuild/bbs-3.22-bioc-rapid/R/site-library --timings AnnotationHub_3.99.0.tar.gz StartedAt: 2025-04-28 07:42:50 -0400 (Mon, 28 Apr 2025) EndedAt: 2025-04-28 07:47:05 -0400 (Mon, 28 Apr 2025) EllapsedTime: 255.2 seconds RetCode: 0 Status: OK CheckDir: AnnotationHub.Rcheck Warnings: 0