Package: AnnotationHub Version: 3.99.0 Command: /home/rapidbuild/bbs-3.22-bioc-rapid/R/bin/R CMD build --keep-empty-dirs --no-resave-data AnnotationHub StartedAt: 2025-04-28 06:28:59 -0400 (Mon, 28 Apr 2025) EndedAt: 2025-04-28 06:30:39 -0400 (Mon, 28 Apr 2025) EllapsedTime: 99.8 seconds RetCode: 0 Status: OK PackageFile: AnnotationHub_3.99.0.tar.gz PackageFileSize: 976.6 KiB