Package: AnnotationForge Version: 1.49.0 Command: /home/rapidbuild/bbs-3.21-bioc-rapid/R/bin/R CMD INSTALL AnnotationForge StartedAt: 2025-02-06 06:19:37 -0500 (Thu, 06 Feb 2025) EndedAt: 2025-02-06 06:19:54 -0500 (Thu, 06 Feb 2025) EllapsedTime: 17.4 seconds RetCode: 0 Status: OK