Package: AnnotationForge Version: 1.49.0 Command: /home/rapidbuild/bbs-3.21-bioc-rapid/R/bin/R CMD build --keep-empty-dirs --no-resave-data AnnotationForge StartedAt: 2025-02-11 06:30:18 -0500 (Tue, 11 Feb 2025) EndedAt: 2025-02-11 06:32:32 -0500 (Tue, 11 Feb 2025) EllapsedTime: 134.1 seconds RetCode: 0 Status: OK PackageFile: AnnotationForge_1.49.0.tar.gz PackageFileSize: 3.838 MiB