Package: AnnotationDbi Version: 1.69.0 Command: /home/rapidbuild/bbs-3.21-bioc-rapid/R/bin/R CMD INSTALL AnnotationDbi StartedAt: 2025-02-10 06:21:16 -0500 (Mon, 10 Feb 2025) EndedAt: 2025-02-10 06:21:33 -0500 (Mon, 10 Feb 2025) EllapsedTime: 16.2 seconds RetCode: 0 Status: OK