Package: AnnotationDbi Version: 1.69.0 Command: /home/rapidbuild/bbs-3.21-bioc-rapid/R/bin/R CMD build --keep-empty-dirs --no-resave-data AnnotationDbi StartedAt: 2025-02-10 06:32:27 -0500 (Mon, 10 Feb 2025) EndedAt: 2025-02-10 06:33:32 -0500 (Mon, 10 Feb 2025) EllapsedTime: 64.2 seconds RetCode: 0 Status: OK PackageFile: AnnotationDbi_1.69.0.tar.gz PackageFileSize: 4.171 MiB