Welcome to mirrors.dotsrc.org

All our mirrors of open source software are available via http, https, ftp and an onion service. More information about our mirrors including statistics and contact information is available on our mirror info pages.

For information about dotsrc.org and our other services please go to our website.

Index of /bioconductor/checkResults/devel/bioc-rapid-LATEST/

File Name  ↓ File Size  ↓ Date  ↓ 
Parent directory/--
zlibbioc/-2025-04-29 13:54:10
zellkonverter/-2025-04-29 13:54:10
xcms/-2025-04-29 13:54:10
widgetTools/-2025-04-29 13:54:10
vsn/-2025-04-29 13:54:10
tximport/-2025-04-29 13:54:10
tximeta/-2025-04-29 13:54:10
txdbmaker/-2025-04-29 13:54:10
treeio/-2025-04-29 13:54:10
tkWidgets/-2025-04-29 13:54:10
sva/-2025-04-29 13:54:10
sparseMatrixStats/-2025-04-29 13:54:10
snpStats/-2025-04-29 13:54:10
snifter/-2025-04-29 13:54:10
sesame/-2025-04-29 13:54:10
seqLogo/-2025-04-29 13:54:10
scuttle/-2025-04-29 13:54:10
scrapper/-2025-04-29 13:54:10
scran/-2025-04-29 13:54:10
scater/-2025-04-29 13:54:10
rtracklayer/-2025-04-29 13:54:10
rpx/-2025-04-29 13:54:10
rols/-2025-04-29 13:54:10
rhdf5filters/-2025-04-29 13:54:10
rhdf5/-2025-04-29 13:54:10
regioneR/-2025-04-29 13:54:10
rBiopaxParser/-2025-04-29 13:54:10
qvalue/-2025-04-29 13:54:09
pwalign/-2025-04-29 13:54:09
preprocessCore/-2025-04-29 13:54:09
phyloseq/-2025-04-29 13:54:09
pcaMethods/-2025-04-29 13:54:09
pathview/-2025-04-29 13:54:09
pRoloc/-2025-04-29 13:54:09
openCyto/-2025-04-29 13:54:09
ncdfFlow/-2025-04-29 13:54:09
mzR/-2025-04-29 13:54:09
mzID/-2025-04-29 13:54:09
multtest/-2025-04-29 13:54:09
minet/-2025-04-29 13:54:09
microRNA/-2025-04-29 13:54:09
metapod/-2025-04-29 13:54:09
metagenomeSeq/-2025-04-29 13:54:09
mbkmeans/-2025-04-29 13:54:09
maftools/-2025-04-29 13:54:09
lpsymphony/-2025-04-29 13:54:09
limma/-2025-04-29 13:54:09
keggorthology/-2025-04-29 13:54:09
karyoploteR/-2025-04-29 13:54:09
interactiveDisplayBase/-2025-04-29 13:54:09
interactiveDisplay/-2025-04-29 13:54:09
impute/-2025-04-29 13:54:09
illuminaio/-2025-04-29 13:54:09
hpar/-2025-04-29 13:54:09
h5mread/-2025-04-29 13:54:09
gypsum/-2025-04-29 13:54:09
graph/-2025-04-29 13:54:09
gpls/-2025-04-29 13:54:09
glmGamPoi/-2025-04-29 13:54:09
ggtreeExtra/-2025-04-29 13:54:09
ggtree/-2025-04-29 13:54:09
ggcyto/-2025-04-29 13:54:09
ggbio/-2025-04-29 13:54:09
geneplotter/-2025-04-29 13:54:09
genefilter/-2025-04-29 13:54:09
gdsfmt/-2025-04-29 13:54:09
gcrma/-2025-04-29 13:54:09
gage/-2025-04-29 13:54:09
fmcsR/-2025-04-29 13:54:09
flowWorkspace/-2025-04-29 13:54:09
flowViz/-2025-04-29 13:54:09
flowStats/-2025-04-29 13:54:09
flowCore/-2025-04-29 13:54:09
flowClust/-2025-04-29 13:54:09
fishpond/-2025-04-29 13:54:09
fgsea/-2025-04-29 13:54:09
ensembldb/-2025-04-29 13:54:09
enrichplot/-2025-04-29 13:54:09
eds/-2025-04-29 13:54:09
edgeR/-2025-04-29 13:54:09
dir.expiry/-2025-04-29 13:54:09
densvis/-2025-04-29 13:54:09
cytolib/-2025-04-29 13:54:09
csaw/-2025-04-29 13:54:09
clusterProfiler/-2025-04-29 13:54:09
chihaya/-2025-04-29 13:54:09
bluster/-2025-04-29 13:54:09
biovizBase/-2025-04-29 13:54:09
biomformat/-2025-04-29 13:54:09
biomaRt/-2025-04-29 13:54:09
biocthis/-2025-04-29 13:54:09
biocmake/-2025-04-29 13:54:09
biocViews/-2025-04-29 13:54:09
beachmat.hdf5/-2025-04-29 13:54:09
beachmat/-2025-04-29 13:54:09
batchelor/-2025-04-29 13:54:09
basilisk.utils/-2025-04-29 13:54:09
basilisk/-2025-04-29 13:54:09
bamsignals/-2025-04-29 13:54:09
assorthead/-2025-04-29 13:54:09
aroma.light/-2025-04-29 13:54:09
apeglm/-2025-04-29 13:54:09
annotate/-2025-04-29 13:54:09
alabaster.se/-2025-04-29 13:54:09
alabaster.schemas/-2025-04-29 13:54:09
alabaster.sce/-2025-04-29 13:54:09
alabaster.ranges/-2025-04-29 13:54:09
alabaster.matrix/-2025-04-29 13:54:09
alabaster.base/-2025-04-29 13:54:09
affyio/-2025-04-29 13:54:09
affyPLM/-2025-04-29 13:54:09
affy/-2025-04-29 13:54:09
affxparser/-2025-04-29 13:54:09
XVector/-2025-04-29 13:54:10
Wrench/-2025-04-29 13:54:10
VariantAnnotation/-2025-04-29 13:54:10
UCSC.utils/-2025-04-29 13:54:10
TCGAbiolinks/-2025-04-29 13:54:10
SummarizedExperiment/-2025-04-29 13:54:10
Spectra/-2025-04-29 13:54:10
SpatialExperiment/-2025-04-29 13:54:10
SparseArray/-2025-04-29 13:54:10
SingleR/-2025-04-29 13:54:10
SingleCellExperiment/-2025-04-29 13:54:10
ShortRead/-2025-04-29 13:54:10
ScaledMatrix/-2025-04-29 13:54:10
SPIA/-2025-04-29 13:54:10
S4Vectors/-2025-04-29 13:54:10
S4Arrays/-2025-04-29 13:54:10
Rsubread/-2025-04-29 13:54:10
Rsamtools/-2025-04-29 13:54:10
Rigraphlib/-2025-04-29 13:54:10
Rhtslib/-2025-04-29 13:54:10
Rhdf5lib/-2025-04-29 13:54:10
Rgraphviz/-2025-04-29 13:54:10
ResidualMatrix/-2025-04-29 13:54:10
ReportingTools/-2025-04-29 13:54:10
Rdisop/-2025-04-29 13:54:10
RaggedExperiment/-2025-04-29 13:54:09
RProtoBufLib/-2025-04-29 13:54:10
ROC/-2025-04-29 13:54:10
RBGL/-2025-04-29 13:54:09
QFeatures/-2025-04-29 13:54:09
ProtGenerics/-2025-04-29 13:54:09
PSMatch/-2025-04-29 13:54:09
OrganismDbi/-2025-04-29 13:54:09
MultiAssayExperiment/-2025-04-29 13:54:09
MsFeatures/-2025-04-29 13:54:09
MsExperiment/-2025-04-29 13:54:09
MsDataHub/-2025-04-29 13:54:09
MsCoreUtils/-2025-04-29 13:54:09
MsBackendSql/-2025-04-29 13:54:09
MsBackendMgf/-2025-04-29 13:54:09
MetaboCoreUtils/-2025-04-29 13:54:09
MatrixGenerics/-2025-04-29 13:54:09
MassSpecWavelet/-2025-04-29 13:54:09
MSnbase/-2025-04-29 13:54:09
MLInterfaces/-2025-04-29 13:54:09
LoomExperiment/-2025-04-29 13:54:09
KEGGgraph/-2025-04-29 13:54:09
KEGGREST/-2025-04-29 13:54:09
IRanges/-2025-04-29 13:54:09
IHW/-2025-04-29 13:54:09
HubPub/-2025-04-29 13:54:09
HDF5Array/-2025-04-29 13:54:09
Gviz/-2025-04-29 13:54:09
GenomicRanges/-2025-04-29 13:54:09
GenomicFeatures/-2025-04-29 13:54:09
GenomicAlignments/-2025-04-29 13:54:09
GenomeInfoDb/-2025-04-29 13:54:09
GSVA/-2025-04-29 13:54:09
GSEABase/-2025-04-29 13:54:09
GOstats/-2025-04-29 13:54:09
GOSemSim/-2025-04-29 13:54:09
GEOquery/-2025-04-29 13:54:09
ExperimentHubData/-2025-04-29 13:54:09
ExperimentHub/-2025-04-29 13:54:09
EnrichedHeatmap/-2025-04-29 13:54:09
EnhancedVolcano/-2025-04-29 13:54:09
EDASeq/-2025-04-29 13:54:09
EBarrays/-2025-04-29 13:54:09
EBImage/-2025-04-29 13:54:09
DynDoc/-2025-04-29 13:54:09
DropletUtils/-2025-04-29 13:54:09
DirichletMultinomial/-2025-04-29 13:54:09
DelayedMatrixStats/-2025-04-29 13:54:09
DelayedArray/-2025-04-29 13:54:09
DOSE/-2025-04-29 13:54:09
DNAcopy/-2025-04-29 13:54:09
DEXSeq/-2025-04-29 13:54:09
DESeq2/-2025-04-29 13:54:09
DECIPHER/-2025-04-29 13:54:09
CytoML/-2025-04-29 13:54:09
ConsensusClusterPlus/-2025-04-29 13:54:09
CompoundDb/-2025-04-29 13:54:09
ComplexHeatmap/-2025-04-29 13:54:09
ChemmineR/-2025-04-29 13:54:09
ChemmineOB/-2025-04-29 13:54:09
Category/-2025-04-29 13:54:09
BumpyMatrix/-2025-04-29 13:54:09
Biostrings/-2025-04-29 13:54:09
BiocVersion/-2025-04-29 13:54:09
BiocStyle/-2025-04-29 13:54:09
BiocSingular/-2025-04-29 13:54:09
BiocParallel/-2025-04-29 13:54:09
BiocNeighbors/-2025-04-29 13:54:09
BiocIO/-2025-04-29 13:54:09
BiocGenerics/-2025-04-29 13:54:09
BiocFileCache/-2025-04-29 13:54:09
BiocCheck/-2025-04-29 13:54:09
BiocBaseUtils/-2025-04-29 13:54:09
Biobase/-2025-04-29 13:54:09
BSgenomeForge/-2025-04-29 13:54:09
BSgenome/-2025-04-29 13:54:09
AnnotationHubData/-2025-04-29 13:54:09
AnnotationHub/-2025-04-29 13:54:09
AnnotationForge/-2025-04-29 13:54:09
AnnotationFilter/-2025-04-29 13:54:09
AnnotationDbi/-2025-04-29 13:54:09
teran2-R-instpkgs.html97.2 KiB2025-04-29 13:54:08
teran2-NodeInfo.html7.0 KiB2025-04-29 13:54:08
skipped-index.dcf0 B2025-04-29 13:54:08
report.tgz4.1 MiB2025-04-29 13:54:12
report.js6.0 KiB2025-04-29 13:54:08
report.css11.0 KiB2025-04-29 13:54:08
meat-index.dcf23.7 KiB2025-04-29 13:54:08
index.html234.7 KiB2025-04-29 13:54:10
Renviron.bioc3.3 KiB2025-04-29 13:54:08
DEVEL3b.png2.6 KiB2025-04-29 13:54:08
BUILD_STATUS_DB.txt19.8 KiB2025-04-29 13:54:08
120px-Red_Light_Icon.svg.png7.0 KiB2025-04-29 13:54:08
120px-Green_Light_Icon.svg.png7.1 KiB2025-04-29 13:54:08
120px-Blue_Light_Icon.svg.png7.1 KiB2025-04-29 13:54:08