Welcome to mirrors.dotsrc.org

All our mirrors of open source software are available via http, https, ftp and an onion service. More information about our mirrors including statistics and contact information is available on our mirror info pages.

For information about dotsrc.org and our other services please go to our website.

Index of /bioconductor/checkResults/devel/bioc-rapid-LATEST/

File Name  ↓ File Size  ↓ Date  ↓ 
--
-2025-10-04 14:01:58
-2025-10-04 14:01:58
-2025-10-04 14:01:58
-2025-10-04 14:01:58
-2025-10-04 14:01:58
-2025-10-04 14:01:58
-2025-10-04 14:01:58
-2025-10-04 14:01:58
-2025-10-04 14:01:58
-2025-10-04 14:01:58
-2025-10-04 14:01:58
-2025-10-04 14:01:58
-2025-10-04 14:01:58
-2025-10-04 14:01:58
-2025-10-04 14:01:58
-2025-10-04 14:01:58
-2025-10-04 14:01:58
-2025-10-04 14:01:58
-2025-10-04 14:01:58
-2025-10-04 14:01:58
-2025-10-04 14:01:58
-2025-10-04 14:01:58
-2025-10-04 14:01:58
-2025-10-04 14:01:58
-2025-10-04 14:01:58
-2025-10-04 14:01:58
-2025-10-04 14:01:58
-2025-10-04 14:01:58
-2025-10-04 14:01:59
-2025-10-04 14:01:59
-2025-10-04 14:01:59
-2025-10-04 14:01:59
-2025-10-04 14:01:59
-2025-10-04 14:01:59
-2025-10-04 14:01:59
-2025-10-04 14:01:59
-2025-10-04 14:01:59
-2025-10-04 14:01:59
-2025-10-04 14:01:59
-2025-10-04 14:01:59
-2025-10-04 14:01:59
-2025-10-04 14:01:59
-2025-10-04 14:01:59
-2025-10-04 14:01:59
-2025-10-04 14:01:59
-2025-10-04 14:01:59
-2025-10-04 14:01:59
-2025-10-04 14:01:59
-2025-10-04 14:01:59
-2025-10-04 14:01:59
-2025-10-04 14:01:59
-2025-10-04 14:01:59
-2025-10-04 14:01:59
-2025-10-04 14:01:59
-2025-10-04 14:01:59
-2025-10-04 14:01:59
-2025-10-04 14:01:59
-2025-10-04 14:01:59
-2025-10-04 14:01:59
-2025-10-04 14:01:59
-2025-10-04 14:01:59
-2025-10-04 14:01:59
-2025-10-04 14:01:59
-2025-10-04 14:01:59
-2025-10-04 14:01:59
-2025-10-04 14:01:59
-2025-10-04 14:01:59
-2025-10-04 14:01:59
-2025-10-04 14:01:59
-2025-10-04 14:01:59
-2025-10-04 14:01:59
-2025-10-04 14:01:59
-2025-10-04 14:01:59
-2025-10-04 14:01:59
-2025-10-04 14:01:59
-2025-10-04 14:01:59
-2025-10-04 14:01:59
-2025-10-04 14:01:59
-2025-10-04 14:01:59
-2025-10-04 14:01:59
-2025-10-04 14:02:00
-2025-10-04 14:02:00
-2025-10-04 14:01:59
-2025-10-04 14:02:00
-2025-10-04 14:02:00
-2025-10-04 14:02:00
-2025-10-04 14:02:00
-2025-10-04 14:02:00
-2025-10-04 14:02:00
-2025-10-04 14:02:00
-2025-10-04 14:02:00
-2025-10-04 14:02:00
-2025-10-04 14:02:00
-2025-10-04 14:02:00
-2025-10-04 14:02:00
-2025-10-04 14:02:00
-2025-10-04 14:02:00
-2025-10-04 14:02:00
-2025-10-04 14:02:00
-2025-10-04 14:02:00
-2025-10-04 14:02:00
-2025-10-04 14:02:00
-2025-10-04 14:02:00
-2025-10-04 14:02:00
-2025-10-04 14:02:00
-2025-10-04 14:02:00
-2025-10-04 14:02:00
-2025-10-04 14:02:00
-2025-10-04 14:02:00
-2025-10-04 14:02:00
-2025-10-04 14:02:00
-2025-10-04 14:02:00
-2025-10-04 14:01:58
-2025-10-04 14:01:58
-2025-10-04 14:01:58
-2025-10-04 14:01:58
-2025-10-04 14:01:58
-2025-10-04 14:01:58
-2025-10-04 14:01:58
-2025-10-04 14:01:58
-2025-10-04 14:01:58
-2025-10-04 14:01:58
-2025-10-04 14:01:58
-2025-10-04 14:01:58
-2025-10-04 14:01:58
-2025-10-04 14:01:58
-2025-10-04 14:01:58
-2025-10-04 14:01:58
-2025-10-04 14:01:58
-2025-10-04 14:01:58
-2025-10-04 14:01:58
-2025-10-04 14:01:58
-2025-10-04 14:01:58
-2025-10-04 14:01:58
-2025-10-04 14:01:58
-2025-10-04 14:01:58
-2025-10-04 14:01:58
-2025-10-04 14:01:58
-2025-10-04 14:01:58
-2025-10-04 14:01:58
-2025-10-04 14:01:58
-2025-10-04 14:01:58
-2025-10-04 14:01:58
-2025-10-04 14:01:58
-2025-10-04 14:01:59
-2025-10-04 14:01:59
-2025-10-04 14:01:59
-2025-10-04 14:01:59
-2025-10-04 14:01:59
-2025-10-04 14:01:59
-2025-10-04 14:01:59
-2025-10-04 14:01:59
-2025-10-04 14:01:59
-2025-10-04 14:01:59
-2025-10-04 14:01:59
-2025-10-04 14:01:59
-2025-10-04 14:01:59
-2025-10-04 14:01:59
-2025-10-04 14:01:59
-2025-10-04 14:01:59
-2025-10-04 14:01:59
-2025-10-04 14:01:59
-2025-10-04 14:01:59
-2025-10-04 14:01:59
-2025-10-04 14:01:59
-2025-10-04 14:01:59
-2025-10-04 14:01:59
-2025-10-04 14:01:59
-2025-10-04 14:01:59
-2025-10-04 14:01:59
-2025-10-04 14:01:59
-2025-10-04 14:01:59
-2025-10-04 14:01:59
-2025-10-04 14:01:59
-2025-10-04 14:01:59
-2025-10-04 14:01:59
-2025-10-04 14:01:59
-2025-10-04 14:01:59
-2025-10-04 14:01:59
-2025-10-04 14:01:59
-2025-10-04 14:01:59
-2025-10-04 14:01:59
-2025-10-04 14:01:59
-2025-10-04 14:01:59
-2025-10-04 14:01:59
-2025-10-04 14:01:59
-2025-10-04 14:01:59
-2025-10-04 14:01:59
-2025-10-04 14:01:59
-2025-10-04 14:01:59
-2025-10-04 14:01:59
-2025-10-04 14:01:59
-2025-10-04 14:01:59
-2025-10-04 14:01:59
-2025-10-04 14:01:59
-2025-10-04 14:01:59
-2025-10-04 14:01:59
-2025-10-04 14:01:59
-2025-10-04 14:01:59
-2025-10-04 14:01:59
-2025-10-04 14:01:59
-2025-10-04 14:01:59
-2025-10-04 14:02:00
-2025-10-04 14:02:00
-2025-10-04 14:02:00
-2025-10-04 14:02:00
-2025-10-04 14:02:00
-2025-10-04 14:02:00
-2025-10-04 14:02:00
-2025-10-04 14:02:00
-2025-10-04 14:02:00
-2025-10-04 14:02:00
-2025-10-04 14:02:00
-2025-10-04 14:02:00
-2025-10-04 14:02:00
-2025-10-04 14:02:00
-2025-10-04 14:02:00
-2025-10-04 14:02:00
-2025-10-04 14:02:00
-2025-10-04 14:02:00
-2025-10-04 14:02:00
-2025-10-04 14:02:00
-2025-10-04 14:02:00
-2025-10-04 14:02:00
-2025-10-04 14:02:00
-2025-10-04 14:02:00
-2025-10-04 14:02:00
-2025-10-04 14:02:00
-2025-10-04 14:02:00
-2025-05-21 19:56:33
7.1 KiB2025-10-04 14:01:58
7.1 KiB2025-10-04 14:01:58
7.0 KiB2025-10-04 14:01:58
20.6 KiB2025-10-04 14:01:58
2.6 KiB2025-10-04 14:01:58
3.3 KiB2025-10-04 14:01:58
245.1 KiB2025-10-04 14:02:00
24.8 KiB2025-10-04 14:01:58
11.9 KiB2025-10-04 14:01:58
6.0 KiB2025-10-04 14:01:58
4.2 MiB2025-10-04 14:02:02
0 B2025-10-04 14:01:58
7.4 KiB2025-10-04 14:01:58
121.9 KiB2025-10-04 14:01:58