Package: rhdf5 Version: 2.55.6 Maintainer: Hugo Gruson MaintainerEmail: hugo.gruson at embl.de git_url: https://git.bioconductor.org/packages/rhdf5 git_branch: devel git_last_commit: 7833404 git_last_commit_date: 2025-11-05 09:28:02 -0500 (Wed, 05 Nov 2025)