Package: scviR Version: 1.11.0 Command: /home/biocbuild/bbs-3.23-bioc/R/bin/R CMD build --keep-empty-dirs --no-resave-data scviR StartedAt: 2025-11-25 15:52:29 -0000 (Tue, 25 Nov 2025) EndedAt: 2025-11-25 15:54:51 -0000 (Tue, 25 Nov 2025) EllapsedTime: 142.0 seconds RetCode: 0 Status: OK PackageFile: scviR_1.11.0.tar.gz PackageFileSize: 3.868 MiB