Package: scviR Version: 1.9.13 Command: /home/biocbuild/bbs-3.22-bioc/R/bin/R CMD INSTALL scviR StartedAt: 2025-10-21 10:35:56 -0000 (Tue, 21 Oct 2025) EndedAt: 2025-10-21 10:37:46 -0000 (Tue, 21 Oct 2025) EllapsedTime: 109.5 seconds RetCode: 0 Status: OK