Package: scviR Version: 1.9.13 Command: /home/biocbuild/bbs-3.22-bioc/R/bin/R CMD build --keep-empty-dirs --no-resave-data scviR StartedAt: 2025-10-21 10:51:12 -0000 (Tue, 21 Oct 2025) EndedAt: 2025-10-21 10:53:35 -0000 (Tue, 21 Oct 2025) EllapsedTime: 143.0 seconds RetCode: 1 Status: ERROR PackageFile: None PackageFileSize: NA