JF\o s`mR1[9mjZ-/,KJ )n~׿9nm9OڑhdV#~AHah!N -I0F&b@r9d (L` rXR B{# oFSkjYS?7M6˽'Qvl?w%8*!5f?/nM؞KjEȵEv^QV$~^Jqc}5CzS-+cPFMbl;To $;_zFD+%T#^V]Q̠?]~!aԾ>{ ~\ "j1(U'N<llR ?#}>XV>]]dRNƔ\11/mI@!cMN! J]ӳaJ(]$bsCSk4``grg#\v`D5zbѾ!F$hI O7ҸǻqoG`DzX͸3laTB.;J7 ch&w# Z6DMǨ7`oNǴM}X]D J,Um XK ߷>nX0=uٌ}j)N LӪ X}@hxؔ4(> U^)|TrJ ŢhSmE$X4f)_N2(fXa.hUp '#ZBo8:9I~Kl҇'tVh*zQ;ͳ3 3%RLx TX}ILx%8n:v8$@ד\ќPu҈= f' X;%'\^Ai!L|hNX7\ 23ӳ]AP cPvˡ61po@tG.Qfr1 qy6SbRP-#4ߚ>tXV \*LE#=3yrᅛkΡ0[1lX; ӥ8l3b%eFn;1 =K,fTh0Cӷ0t¹֖eVl-$yZm6P#ÖLXe^UVˍ/- ^Ek}U )jV}Go0&7 KzU#ZQ-Wj\TB_mp墆-WjJ9 -!``tRRQ"U}C Gp 3qz\T: 5WLr OU:i+,JOFn]bVXVo1(m9RclmC 0.#ٝ^]r6 DX505W 3cgD{2k ?)gm\mlxE+XHsMpY#rv;hP\_kEEj*J(dc{ʯ@\ 7VZ׳] Rb4l² X@lg+Z˿ygR:VhNp(q=d.*}LAF('+XUh`W6R t1~Q(PWo1lCA I@Coz揠p| 崆VRoϺerGmc( ǖ@vQa>x,IdNty4Og-1"b,]]Ec- 6CbhYz/h-z9ʵyf_jQV6L(FZjXMȩKMmg _2Ƶadm Lp7\n⭸"s'y$z v<.ٽ ag 9XX{aV7X&Mn\b%0;3O,ÝmD4aɆf{!6fvlETp4pG>YYVZX./kK픾s":ap9 _ຢXbp',18K Rb&T)e gYp)e e2RNH]ʘ)LZLa^eɿe2Sx[bQV])\Vk:4Yf`b"S_LaMX^/g›ސ~pv \=+kzk# a'krQ7V7klȗa r^ˋ?5-m\/#GQi_[ATFT 29!| ׆6f,<O\kl+grHXjUV*`"iUrdR<^0Z].U2Ƶakdm_?%gkGc>z-VG vCɌ׆k l/ɿ6F`طFh iH0u#$o"1(4 (P`)E藱ȘLjraXJ#opQZM]//nS[(U`w(r6UwʿXBpt+_Ӂy/LqE>w/&+·RP8e.` r\ ez_bmkZ?`#:>VɿBGaӁdL290҇AIcl{=o) Ø6RrƋIju4g}f2^m^-*e4?J\x0 NA.wp~va>' y)> Iy>;X]Do2vNaHqOyb80/ithZɭ +}+L ՒNϾNAX_~(%ʹƎ߄ 318J(C}8)Xaox ߊ`_!_:w?۷{gݛ?ƅta޾V1gG PEWg}.:S <U/YxczxV`^Vg6N~"'^ϤTbJ{O={d3g'ye Bdc٦E+ @^L yC &'ג?:<x4Cd WD@ᩦ5 g'yޠj[l̶%%x3)oD/.8_|(".z".LK＀I(N>*햔x"J񼤷ٗM6}+2We\ٗ/se_ʾ̕}+2We2/Cq\\vgI l&q=+GQF憤WqT: fd̲cfYn2ya7rkD_G^eHJ0xNsůI6aN,gjl091e48w2x#v^?Ǯ;Sq|ҹ:m+vn_vWs{A{ 4߾`݋`C"&qm"/o .Dc&œ`l'=]1<~a2x>ٿ`͂EUdyCLR,#D%C>P= Xi$`ё7q(`ÒF`V(؃rS8;3 UKq I{\~m0+v0f*C= Ckƒ%+XG+ovFa'M1e'?EpKV@q0o"!9.'4;÷(m>>+,!3``l}\'x(7Xx6u["#۝-\>9:A^Z wa#&0 3/vy=΀B/,ʡeFy5 wryߊApMwߡ!+iz|woOo 9t0EI~|7gg͹7*aq Y 5@`Q\\aEu<" Sp[~ױXF`ۮы`5V~eQ_6R9it&Rʉo]tb"]YPӖ?p⭤gqx/ wS~V<ѵ+{l"A[|t]IҕNw#航p+~V(r30g1~u;DJoƇxs5\b"mje(צ8>|ڂixl#"&|ѫT[P]~yAG==%ҵ`١[ wI}I5j-F{m%Cm"<VwQCiO.᷼Mo϶>T,a91 F o+Jv̈́d~Δ"_k?K|8T>iCc~3i~MszMO! ek%'#PDF7%BڢI!.L`$@gVi%ݧęzmOP-0H]%vkw"Ϧ|O3h"`ELF7QhՎ]C۵5#CEH]Ua_4}߼YZye^^dd:FAnո1j\M:ioL{cޘƴ7ΒF !WW4`~!i"q)k`sM,elIɗdFkR)TY:]?fH|xwsIϤ?~?кji}p0iy;9:j1*sSe0cA7r8L%=`ҋC0<684j;nwy/~-Pmºh ߮VCV'`c'@]GJmwwܪL1]?WvpkQ+ra3nzB)WvHvvv?)rRec>kevp߼fz[qi\*L9=Wjmyz8>vchX-zmA.3S"[ R#19{س̀.X6j.hƎRS_Y iOd|d=s6LpmnZ/zY}( mqۺJƎHl`bvGWtC o"8 Z2/ѹ`ՔL}"7FRC㔝$|-y ˑJXIqixC@ߌ~ys#˱zktIJ\Y4~ou~e{,-TQ-pTcv5H9-&2[=DZ<UxHкh Ꙇ iF6S5;Nb?˳4KY´YtAi+ *2?}LFLht8Mp061s61x4yQ@-Qčt_@iI*B&y0hq|8MzqM w 8Dr-d\>-ɸa GJ %.3I! PzoZg:5hac7Zq5seG_^q=-XΞBUv sl1/Cԥ#>}X*+}ӯgWnگ~x.x5Z4jz~}`%&JN;mn|zp~1v2*WV1AKQT}JDj(p\PJe m=\3 \[MǺ9fHӞΧ$jV36M~x^Vjԛǵ'dؿJzi lUk4sHVX6Pb+c_K>zHFswO2 >bl~Ȭl z&mi ,iڅ0ױaGurF>\!xzz)ȲeS2xi1[ύ]MgZ}zW,%e V޺X]V@`|Ýv ݈MRM|O\ZW:>jռ2s#~]QoDO}?i_o,s@g[;eT2吤m_r9;ڦ3M<,kv%O%ە;Kn.VY,]Y3'&n5JRvGG'MD,^xӋO'8kP_5 <7=nGeCUWĽ6X.d2B {Iz3'LdG3~ ]1 1:mr28j !ϥ&~]Sp/C;< TN\4.֨noWk[RF享/̍MFH )k4S(Z]ԫߢ@ |w5ն/W243oD#-[눘`5hVUqq\ ƒeO\)툤ENdKI0o7,1%ՠayLΝdsOݒ}ݭ~,'eY$D)RRZ*]%~}*0t#wYpakbG\(rdkYi5^j{Hu~(gr %Q{H$IR2mcSt7 %9IJ9IJ9IʘEN)FNbK'IHY܉JAAUNRD^SAD'VO(JS牲,'m"xz,n꜓;W'jRP_+(y="pqp^1^~<>YMdlץȫooۨ o WJt^SF/B|+?7LeIUϟwu!| t =(i_FgYE?]Musyl5`:`i:I5:W}"_ Q<F^|:axՖt+”M;q CNy&\4}:r` g!D^W5fCw,>{Yt i-]b.=dIcC΃,z&iy,#(1^E+<`[c 3JWxLjzt4z oәиV7Fk;AbzJWcv/:dxd>bT+ NUޟ%wyׅ_axA<2J/1(A# JQ:/,tm4`n@i6 Ԋ 1R q{ >p6^nw\Ro#t&e8>KW"Հr@ (YLv%=eXCgqQ-T D.JvA11e!6.\(nxξE׏wqA6A#Q(2Ba%Wm,*Tsdzc*U>P.P+T%JOpMj>39aUxwPE:7D_#0  LqP,mpmM&AdsLapY熽P.-rV:,^t&ǬfXP3ӻJ4D12;q|q/]s(j" (jk]~a% ٨KUΛB\y-|C2l@I|*eB5S{jyfC՜;ױd8I4BؔGVUvVqՒv!Qڽ 6N0qWrFQ^p+=ΚpD6 1zaMߴ.M̶ficN{“c+5M jX 駣HT]8NKLöT8v zg!ǁ'};[-$:xdbVy;`wgȾ#]tN y^jե`jXp"kV]Ye^/~7tbgVulrhFcɢAvVyRe:&)^ 9*LpvV-KN~NYO:`) o+􎚃5w`OxcPؚ5`1` 6Ƒ. VY wo-& ’UD("D"RTD`JĖiUX4ϴOę vIL>Ly+Vs&ڤQƻE6mn"W/!ia/*%_~;@/`a<€3M Z%ϱ|ܾ+ DOvovO]W@Dұb =#nCɬED}i e.w7U}3C=>N;ݛ-w&ќ x "tZ3hy%2\FI6nRn]-`Œ3slT ~r^s2q#1 vZ6*S)&QUbB9SKwsz. 6!]rs &׳p?(m|6EJ[-m/]'X6\٨+w%g JIECӡ?rI<8t{2(E+8ʲA6 ~_f,)Cm2drˊ;ڵuiy2iVWS +þbHe27;1J+EzfSRk|r5&F宆*5i2b!"hmT?GnGƂ?_itxgz jZtEƂ)!i,t@CՇUL!N02qZ#҃6{ҋ1̒lKU2T'ŗ< *" 8aai(%)>̈kFO[9@c ?ȃXK ?'1]^I)#?RGX(<哢?RGxԴI#y<} E`9A `d!+FH)k|I쇡WKjr`+UK]-b?au{#~(>|yFyQ,?'!RHI )$EX 5DP"@RHI ) -Eg'$US)INb@R WQ}bZ.QT xTLJHAkM6'\l7W۷qWKBx 2d^dh%0ˏOI*x&A^.dlqeI6 rnݹ0N1Ee.oFa Ґc)'ރEFEE^`=@ 0QHJRwMu8v~VgBL)y~fЄ5>bE/?bH_?ط9R ?'[nIՃ3!Io:fkHv'IL ?/~3 E)ZRC-ʪ,EGQ~} _=P- Y\ aBE *Nhش*ZhA1zFM+€>{V7V1ܛ[ϣ?M"mb*mbqb_s]*2 ~gο+OiE8ca ['_8X^u"><` bZ]F,5:p&Z]n9N[>3x}\v(xaF\$?d>?֬Vkw?jF?EǺT^DEGQDO%cA]"(b?~!EGQ^}|-AE̟KY~_S95w8AxX#7U kJ_׵ˎW;ҩ||]mӋ5I K9K]",[ELM=Gp!>^}r3ˏl=eøn_ հdNP].pkK0"x8dl`jUJҭ_dA[vT{1tta7}jPXQ$ZEtXVMv-N$(ea>i$Fb>KS"LghT o2̑@Tڗ$1swI"Q/j mهz# V)7 1; G1gxU'JotQzHE'\]2 !yFS3bd1UG# *`J ^^Tm5]'d3Dvat;wq*2݁iy$ ;!"P(JdჴGj B`:*V X`.D#V .Oy]2ˠc 9^ ELQ֎3{|LbP*Mol/=7*smd[\@7ٱ:9]:[!f]rD'U̗& 5m|Sh,x ]'- ;?gkE^GXC@طExm`FQ % Vj TvcX&f  pzzg@* NCV"bڀm4SȖOS\î-6t3yOgluj'&& SXZf=n48x5_atO3o-ہc&".vAg&7Hc+VI"^Cfm{;NugZ ֭6cmYmjrٔ>!{c=5PHk&+rU_r}\ST\oܨV%!;HTM7ZC!Z"F!k`3EZ@Ru!_;YlD. x4XVxNq #t<.VzR#QX5)w~x+w~;*K!CkFhduªbܻĆ[]D9&.�њl-o[TQR/ Z "dar'ĐWjFP`ѐ~1Wݝ#2W<6q w?p$AÜsR|N9[T&%p21s0(3sQp3kVLe|O!e&m[F`!Q& 3p,(6YQKyMQAW [ManaDe䃁gQyܙEUaq<᝙D!d6iJ,7cͻE^1$/ŭp 1`v*oDvGDXy 0h4,: a J_@NR#F<: ̽G:BHdLD^|).uГ}ĕ =ܺIaQq<_\_s7C/np<<ވOM5qiX4"㼈1_B p]WwG~32{F Q쪤TfD"~hFT'ODz%9~N_B+_3_ <~˨_51_~kdJTF7х:Wk$'B[ W~_Ǥ|/EAO W~_Meownޝ_Z!Q@JSkmb (9$8Y.[\_X/ò6BK o`m.)~4J|MF\iۯ)嬆hn@%NZю4GAd(A ه~M_[Ցe#J:7.Ϥ-AL%;gO!t?3),]y:2qjxIA8z Y?` Am)9flfrS~5 (ux ([g o &;L+N7.A/=mȧP,y@4_ODJť嬚;)Y5ebU tz{~ܥub3PReE #W5^3?Z2!%RzR᤽whO{nKڼ&q>F)2 c$] 3U86d)7Q2철$#C65Ydݮ oYH꓃A0F|EBn0rP݁g, LwЂ&,ҭ$eTmpvp4288<=M(Yݿobꟷ`շfN©l9w=xkq![Ql,fc1Xyx_Qd56r]_ё(-R$IXKBMh#-N.G҆04z4+h>VPÎZ~`caP]R]Gf5oFw}ӂ9@GiQ^3l4FG<( %x'. BӀш<+!( 7&( S)gЪEZ]RM6ZRǏ.4dpc0.We:FZudc<:30,[1x F;㰧~a=4aT4{ݳ㳟mSwiow:\'xg!I]Iv!( ͆lՕYm0ˆ Zf{ p`m, m-mK[iהedT2_eS\o+U(NfÀB=" ' וT# - c[E `ү\ˠ'2ܐtol|/ؐ) j='rm(Gnm(ZDY=,LD9g |{}*wإ`2Cj %,Rb)?J#)?4UW#w8~s6nB0JJrR$- RZkd 眏!fҙ9M- :0r %P"NiS?Ij2QG "B1OjEe^aɋ\ͩ 9dKnSJf4 E0 __r2cp䱺ȕ{;xgPb]2FANF@2}G@iQMJKۂ5ʂz&b!n>Scf3p3\lxKTFLMc[.G!#nfbL<@(Xv]Gy rK&~ 0`^p U{@E'8T< k9¨Un~Q5(=:`1dsu߃vMiÌqLd)vjBjRʁ`1*F],/'Gw;óA7'R07-,`DX}7DWXGb(pt_ T.KZN˵e۔.Sd\&I{zg.?:  HZ/~|XxXČ eBq~aƈ{MP0u$ECUۥUA VвHE\߱B.k >d|wХC֑ JԚ(|'#xc/:Lu !/mOeԧMJdϡ~:?:(@g;I٬Uwc#Zm/h$xxG ׸F I<`BRˡ)EEb}L%s%Ɍ"E,3'j_㳋Y2a"(fCZM39qqΥ~3JvXO}lQ/1~;A gaQ IRa\pu7OQ~8'Kb1;"$Ruhx-+L:9u\HWD@ʚ*:9٭\Uġ-xjW3aJM0ԭuYG&oVЯ1cYMh)NR68jԘۑ ?78:ȶeEm$)Ns0g%̓2:h(ˉq3qk2Oq)*r v a"~!iIO /X|{1)u9笽枓LI%:?."I\ E) z&o@ S`u@ ]z|T~$1` m:#gO?cj*74w$O_^hgt(?["w;Fx.NGk&fC6ڰr[SZWj f7"햪u_ߡr|x%\2Xc5HYUmq g«=:An"=Ô]t.6z)9;P|sGwݝ,:?Ģ~ǩ{J(S͆ݵ`z5/>/͘_Pn }.e9n$_ SmN+> O;̟,_GGc^Q=T-*gkU=HugVTw梶7d+ٰb=M=͘0{h#ljm)'6ôKaC3f4 um,{ț,m-}:f)]FrO?ǿ?Qp}3U-W#ns-Ul7)n57y Y]5=?W/։g#m6 j[M_c4XLIFnIh2$i NDM5|f>Q2 ) {%5^=IL{G) щ _%l@:\y/PD﯃;g\!B4 T$z4#ƙ\~\D2oEm_'fcïsÅ> [3nlv v9CK*:43iJ]Ey.#c9/##P24xp(zk9fd8&h5ZxxmZtfm3%^Hݢl8GN>RȑνBjFi!C>Lk4( Fh<hqb.S +tCn!`97Ir 2`3Q AJwJDl4 fFg {)~ fG> 3kGT?b!-]CM*MqRb ;+b-&f?u=.;1Fte0 V1r\ĭ Ҭ s%hB)3z0!k v 4mYz# .aRK[z˰tT_{NJj՛12%JPb*7lЛl(,}u}iPd)CêqނA5"RZHU֗pI"=flY<. FJҦƏx~n!|xb4@UwiS! zMNWnRF9L zUu__Ȉ{aR%2kzKd.h  pT qQ i^ S4hAٰl[dE &BH8'i8Dq'W$Jd6"Q)ebz)PAXA5 rxf -*.](-ix#ܮ?rҫFLI fP0q7 Y# DGq2RZdIW cn:0+AF'YhEG$RˌqJ AP%pp^H(< _DFܪHB<ÃQ*D37MyAJT)=($-R|H/q"%;PXqlÆK),:#ɅHuY,J,7UyڐzH>A G*%IȢx= $9.Hi@]*^JELd)V˙=y)T K)Ni@x6=&K>-;EK΄B\0*\JxV:YzLJi$Y%p2Dmx8cꥴb $ @B.PG!ܔAq%l=>}JiE<Qʂц{<2Kx7$R"3gAf;0׫9^.^? iS"@^X*'&PKRd5ͥr)UY ^L0]CJ$0+UuO%+$p%A*L)[(`y>HYx yA:nlwbϣ҆xDg9\2UAr轛*~E B2^?-ΌQ/7H :{|l@KpHxQ_b0I,ؘ(`Er xt9>o+NQBd ك%Ob}L8><<Nf0<6 WÐf2udt&Q= !#<´I=̇/R4 = x",TJ35a) } rRJg|f#C0DRBj`'/ )N_V-gnRCpA|x,hkR=]lРRJ ({HJFY`j`qhX , 0TKG1G,`B'2 k`΄G =4{8@fϪ8ȑ9eۡxhA2DRf=QH,TO)4ضG,lyƶXD;D %!<1@R9c8< Rkdl'EQ2D =VLJMkx8W"],CpP=u)@t#<+yZNh1@'2 L|t%QDj,}}M v xG k6UA; 3^0LJ =B٨X/ېe9+Y 8'Ed9nmYY !q٨# %TD:|-~IS,Y}l'e&#?D%O !H Mz`HG]qNyb)HެSVBZpT,f9_:/2\ќA)@uoaXZYD0梲!}O3~{X3uYhm>]xh})RbJso(D( Jd!T^r^RɅJxZMbU(!@hˌ фH2z%K`*bQa 6ܘ@LHF׍.yx OD$5L E0f`@Cs! ]P!1Qdv!7jٱ,6/?, = أp\|.5|IIk kx!)W}䤆'RbG>g 5PtL <=+)3)(,.4kya~NE𙆪1k-)S&nmitG[2V5~1\U+^}i>smTt\Щ{87xt_-On*Ρ:uY$d=k?4n>vu,έ,􂯾/hۍiLyʏW>uj_}wwcˑ7ػc֤h C\3gά*ާW 9~vEcvK%oL[6`Ɋ}TVV^83Z[[#mm/ye&MY2O-[F.3z?0`nzkR)Ɗ ;5ZqHk?e: &6:{W}}ώ[6>&M摷v]=0iX:3y7V\I ]ްaÄ bŊ*;>2uW^l~'5ξny=%ZN_(zĉ֮\e(vuOݏ&Hk~#\r%xeikNx&Jh8mZdu1iKeg. wҸ/ Wv sux{ w&̮/d^<=eS8s~ÛJlr/Q]|iZtşN^+vd/kSkL(c {{tS[~_ pjXOS=3 ;...hjt`s>hZ?6YK`uLOq%uy5ɭ|rEyCm[R[{qASeW%OΌsjǠE#/Hۈ;ZَVpƐs1vҤIw4 0 YpĔUد[_O+dksވy}O <ԚS=^O ӾMXuS9eM6>mֲ=œcw#{6Ӌ-{>x,ǓЂEJnà?79wˊ~gd3v띏/n?SwSٚєff:L[V2яuE_x<:w_G[1}{ _xYՋ'&)e)ϓS;ٷmө)5Sf}iΩ_~X0nes4/Խi*5`=?= 'Ni\=p:,t<\\KOѰ|S<}zYf|;[K o^u)<J=wTsv_(SWCgo}:- "= tŕ W-Y,-Y[#[=R[GX ra†p9GؘNjpda6_U=}Hen`Lu_U9\y٫ڶdz>z|gww7.溪鳯]>x+[:ϾO;U1ߝ>~7xg?9SzD7_;z֡ܶg?}gO'>9uq7n:W1::ZM_w7VubO:UNinַ27{%x3Mzď}ϛg6tͿf.72rȈ+Wv߾}\qy"?=Igt| owߋǑ /]%^eξ. ^6Ékxhu+#D{rժs Oo s{oxgϜ3Jkv~}WՉ'v-޳wo'Lhr}ڼY@qC۷<0s-?z=T>#h͌Kj]sO~dũKk?v}|7z_ɞ1xrey{j|޺dɒ˿6st6+W?s_O>ٷwg4|w^Γ;50}{Ş<)-qяGW9KϹ>vK_qw?<}?mٲ4c"Be?_f>oٵ'_9 Zf|mҥ9lϾC;~S~7n4;%o.a;G/{؉g߰?zd؃?0[j3 ֮n=_uUMwٽ=ouם`qwDD}Ўm? 4ʆ>?uy/<񟝰/(4g?[/:LcMd'@ XiW3}|F,v" ͇Q|T(|XY gK39pEG`z~eo~Rpb_D Ɉ㢖e&BCMU{3ч&")'%9Uz&.^H}w!e .륍WoWQAxxl*=eW]峬5%O;T9x|ϊjjexF 28Г C3dx@I]xw3؜ j:<ݎɸ\zP|c5 o=i^T zjgl'"gflxogl2]s8f0L,-ՋP\10M6HG,EMdsf%YO_!S1'id2HiMb{ā;WϿHm:f@KN.1\k@B.1rܪn FKq;UD&qS`dC&idjA˓gaZ[HKE*c%RWXg$fjF]Qhr r)]";TO? n^e| eeǐgp@H.qLx,)L)j58yBET~@Ha8UsOP 7!BE.-P` zN upЋFĶ& *E$Τ8Uidr6`;p(ŏmSCRT,ڀ5ኌަF6zP#jl%'#$b2N:u#ЄǨ+8]iX;rhW}"ř݈'T1R%#Q` m&BKrdQNL~439/!R5 9i޳/-08⽜ byV}qO"'u;OS|= 4K%sD; ڀRpe+.ED POQu-hg jq&E#ax F\`x 2eseT* Ę*׃3K8/R%"|40^G 6+I c2y: #Bunw !d΋:DMF\dLH#U ^a!z]QةZ %P(X4OqDEgvqƖjsqF#B-8ȣa)foNL92nsMlsvHMΎH,ΎH .{P͍q s{-֬{r _fyK5TW?SL2_BM7 Gҕ3`:h{^.un$K)?4@mm]ϔ)SHϕ)EӢ`|W=RȺk5&l01Kp/[C0UxT(x,f `t:Mk]X{:耮h-%*g/M=>9=GCǧ!*.k#i DAqwf(#뻑\G:ͨp$fuy: oiw*s 6|y|ԿbU˞Xܯ[>^V' \KR'H0uF[bNwuUIri!EJ;'״|(oMVQ|z_nǠU2 /mr mMEM%X)؋FPܣS𶲉iLrJVS<5$M^YŏV-`Xi~4ֆ +npy=K3-`V\ 7P7jVtCh[sYԩU=}6+FU)?1J$~[bVؒUړ/%R)J[,dJeXHc:  K19:I F!ҶGmtSWr/rQ2<+%s*1:C {YAudb0vY$hء Q p#Df 9'FNEtcp%>C $ßOtfQٵHc=h `;&4E G}ECfM ipVƍz8/&_W6uc<~-{%-8_2ߍgr絺`Έj4>U/~Ip W^O ]l͞ԚLslkCM P ߗeubr )ˍ!spxڜǓdVـs$i `7.|Ld^etNaچ O^y]!4_nLI"@m~ܨ]2[Y_à3ꈡv,d5f biOOsF#>iTw Mc& 4Mi*>8)eY]EzfK0xxW#%Q'X9m> '^c7'ŠI#%4M6;|[BT|>ޠe@s"2'㜋CxXLJ2ڀi=xc7 _Z-%iX9/obaL#*a*ݨzHmMN6͚lT"MB׸9ƽb8>1_qrkyHgW j,x| >=`1XV~3օe-{/ލ^ڂEK>BWȒ1ןToa_ThrsDKѽ?1v|e7_O 0AB6ߣb+Ϟ$ٕ3wUDi;%+t);346b;0E>-8ϯiᢳ}}~I -1MVԀKбR{`Yr5roUbȧ Sfh2& \OfXsH2Cs6CfιFX 1k ƚRZk.Nl?YWTVPL{UD٬_ H2W-DricK,4V@Bﯙeg('PD|BXe Mb5ת>-Kȟ_T¹ W6 ?"U?i ?Ͽ뮪9/8;7 o߫? ?x5+#WJsUgpfp87+g3 ^! /@y84ʇ"R +/-?/m3 2s_6F? }3LYJF Vgf%k|M^f9幃f9(xc垗oF7H:==%l(nl׬=]6N=hGorF[V_!+Q^@)\ ~7 7 7 i7 7 kbGy,Ү#2 |/?=X'7 Lӯ{ /$=oI;oj 3ms3>3sB %ofǽsV |dDcml=}533fcUH9 pD¯0_ VW$$~/%"m _d _]g}u}?ss?x)(@JRLj7O?=ו@Rr[!&ʌA/%&bio]Rx$h F>y^~\WVu9C͌ۜ/ڑ(OzC#K᤼$No/p~Y}Ceµ2 mϡx`_E탥YٰtQ9Z8c ܓeYGl>7꾆44Q<33!1&~\yd͹/;r"##CWSЯgut3A[)?EN ':mxG2"e9v!ot8V$mL!d}h֕ ~ ȣ:%V2RRRp3dĄұbהJJJ$I˨4#ˮCnq K Jo )?_ڎj쐌ਂN M3(JR/vj^F __ )LXo7pӬM}J:RG6_MAg[](PVG%{NYAa꺋{mڇ@+Mdm{ahˬp8O<^0[ǎa(>)nGY1{ 2I;0=SKhT2;1ZJmDݖB=vI"gzk h7]ʨJS-qf\v"^Cd-f$w){k M^.,;t=ЋAo>elR[9R\/qeq= QWWa?Fϙ CMjЃRT"&mYATn8(sB[tņn/@\YjRnG)/\*!g6ӓ ~P9}tֳcT$л1C"Ų v16(?|GoD MH5{Q6 =VW{ʪ݉ZQ~EcڶB֝>;"6v%'}(Y)[{ͰvLR4Hi5KbW!l5PS Lggg4 FMfdZoǕ>*;U$^i9mPz0byޤ4Cj*ڵvح]OmvPh!km0P0) ;;(퍼(}sa^_?8}==='TNhW˙hD=M8dfED$N"rn(݁PQ(NB&LtgWQ(uVcp1Sȯ5(߆D71V䖯nFmObp8`&L _gYԂbdi-n >'K<ʦ@?AcBWv{t 2-adPg5 lBxJr *ԉfffBDxlպնM^,I iy1zEAc Iсdζ"lsK#on{nE*>7Y6ef4)9`3b[!(6O&*m ChHvGN@Y vA;!L'#U90İ+[ɫA"QI GuMpP|;_H)F?EV+`GyVYB+j;┙&\-p}_J$ԧI}RGk5pcp R^:3YD>!3H Oz4 lOxB…b6}-+T5-66B'JβgvVqji2TCdCͭY}7R^Bqz_nj$cuViX{{{sweUv>{܄'+>Cۤ^Agg QHx!-$Ej`l)W>uO3RTJ3NI ҩmR̃ra^i4%jc!_5XTgVJa. MFfh*2->~YaQOZ% DYIE}6Dͮ(Ӭݔ]ovYƠĭ雽FI,!!;NT=1 89G^apTl@)r⺄̀8ٱj|cf@:ÝbˏuŇܮ : F^'A25{LPRPS(`ދڪiV :%-N&"%5m&ؤ( O!d-@Zy4FQnCdʣ~'<ԓsfJ*=JTuzt],R9RȵkKWzvT6yNb?+Ss֪Sr!,+'3Ƚ`W1D?{M|¹t3hGtu(\\Үw%M]T@"EDDMK{ 6-mZLdۆ"W[.Q\U(PNAKD.n4+gM;̼͛O[w?7پwJ-MמACR',N}cFzi%Jllxd=hgc] tLL9Ҧg+~W7&/uvዯp-9/ի;ʞ]5}q';-KW'_ٽS&>|^ЂϬUҸ=ҁ3.8t`{_]mGDeAkd/{sv )oy{ձk3: o}=CƵtuSg{*NyfLtWvzڮ/>8..Ŏ]y.hqjұ1|ޯ秔}rJG6,Ԭxvag/y۬ _o,)l֠{]obW/.$e+gDq`#o[Qߙ +x[,ˁ_f$/[]t@O:Mxgu~Z7:;Y}x;Sk?h<8n\ fiiq[񍌧{&g7gg~4g©[>o9#2q͢:tzY'g̊;W+_yqʬ0~1SVLsLzקww6+sy>u+ ךػgذ{6)k>5|gEy񠫝9;?$tx܆YmƒQ] C+,Lo緺crmn4n[?zM{ZnxfEԨ.H/40n\un7$ɔA66ouuT5-Η,Mc >Tsb̾Zdg+ T~b&qw樶-*l^?2jWuEkV9j%3mL\{6'lNm`ܬV}v|4}53eVذzSfiZM oL֋=3gK3qsy_c4F)RxC;VyDɇ;V_'M//[sWr;\ճgkY$'NSzQQNN>:MZs Hح? 7Z}Y;'OLw\qk;Zg=?]y.YRl8ߡL_?-F?,aSKWxqݱS1_{Vۧ9ՈyǷ_!J{h>ǝ΁nZ6~>{ΘJ>yvԄ{|Ϟ=1؋f_>',.:$tgbϝTiQlԸ}Dot*pٲMvwtL~4wUɌW:I/\s>mӛw6Nkߝ<{ d ߛ噷7&4tswt[<s-a ;?7 S_)V^1iw,=~|u]܉G "olY[wSh?yT ~vV [~LÐ ݒ:e#GjFF-5ydѝ^Q/CŽ z|$<\5pU鹂]Fwq4wGrybƭCڍ}kGŬN>i9WM?,YQX|OdkM[?"7Nƭqw5u|v÷Yz2lQ|7xEby J囚1m:ԠSKGۻ+=>mz(ytvРONn>,?wV534𷆏ߥAr'6=>koX98G?{@4-lDIm /ţ*IZ}7brUl*i]N῿t"{kO+.8Oy!E>jwmˑn:eNz{Ƶ_{d;%_Q`鿺9<^ّmwQLJyeŗ~ǿi?zKebԬ]'MG%Sς}9c,76ߵ(m _tCMC?竗tvίvߦ3@b9șwtu[nӦM Ln6~779+mµ׽>r G>ni^Wu78#r䁬gf,7ߛQ?Xt1Fm,)7kI3֚%6eIm7n/7hߺW)k:ם\N%DΩ$9w{ոEGf~-iE{kb&yxaf^[rWS&E]:t!}`w^),KziԒ%>QKΟ\rΝYvGҖ%75-*~cGnmAzMZpז}3{\5aY^ Ozkm}Q1m\o؞b#,h;v동~?7-"Ã<7MT(|[Gs"{Kˏ#d┢-cb.W()ȁ5[$ɇOG ->LԹV= ƌAIL;ט@n҉x][-Z{ժZ< ,M ',-2>Y(,^&ﮊQ `gONĸ<"Ah2pf+=6RdTQ5\UG.KUcx*YJn:pB-Қu!AGQ1` Fa$ɊUa(ƛ_Ac6wŕCn-< P€aFRrt)0$ A2ūS=''tC) [ZEOB ($4$bHu)ņA@Q 5M  #8;M/\Q2FS)U(n"JoNo^l&=z6LxP<G޵ MZUcMT;6R]SxE$(RZzHԣB@ep y"":4T.EMHJT {B4BfLB ?o*&!I?>;'ok&˜9P,\U?Tz> |(۟!sm#+⿏bRkpMED& }nF AX.wN# *!E"l_*H%" _8,*"T>8F)t|4 h!%a=Z_5ڿ /8_"z#E}\nEYbprd8).>!Hv/_!?hE`Elc#WGrovaYCQ$!bw/K|(6zj'LO˸#sLOujDA4<5|mgE>'oEy\Ic'-S]ZԄE@tjplIX)g## ҟC{pBHB:/pR5?Rcf@+ $#HRmv6grh)8CS&'F~ĀF;@P\Fdb(G߯PxRάrUJVH: &=jN&m.>eGş2iX+!4Ǥ[RQ%Pҫ R^mY])Rz6QM G# O ']ocPy6!hSP>'U^1/JS"#]^ ܮ|*NԵ_%:K;2H*f΂S"Is RjmK>}DZ)+!D ]P< Ge确ʓTkTWIdրWk%UP4b Tk-+fhfeÉR4j"'P&*rPQѢAVcg7an l}M?WAk0eLX$6 fkݶ@l2hk 5%2dyʪg0T}XPY)BJ'%50V|_-*X:戨-MmD7Ueo{4>oM  6oK*te=%i*+nSƕܷzףԻZ͹ 4݆+jdF3ߠ0Ʊ./0"pؾ(]S "B x\,5zqLAJ"ՅŐfRNͶvN[TLHp&?JWBGFzp΅<EeqFr+ńk?FGϤ3 f`:nkLfZ6#F7MT VZ <<4 aw5VmIq|^xMa +%3.',kYQ˘D@@v>`jL|al<5u8JMZ"vIJoEj5INXkѝ7wQ$!lO29 n5ё,2:;Q nPH$l&QJ 9ܟ'V?PH@<`x0< ($ )QeͤCx0:(;o7 zH'+=FTC54Lbelh?%C, IXh ''I؁F|*exlpD{U8٩94hi z;lv)%ۀto`X$`i5'hآHEITkS!rl C1i]8Me3w ([T4Py =J>2d {jnۑChp>`֛zl oh0qһ5u5Vyq(Kj9 y9HԱ> g\gЯ1/l5e!zl{hPtOSGF(2($1#R<4 Ɂpq>I2;v{@}۱!0I@Y5,# Jbc5QV6Zfs"u1kH UĆu4g>H=X@?RjBeB01Q jwNY؁hdBhȇwa/ $ bc C1^A8R@d lXg00\0 30jAl"l(D5$"{0@V?M!cYxC|.H^cp2bL e+MZ7c.-zl,ݪx@%xAA[|SEnT;as6@ T (#D3HIfZDB5,hH8/3iHnt*ɥ(*$ :7_"8ՑJj(f[! T)÷( h#nJ0'3BIAB2t pvMsiftf-o!Z.S&ٚ !ljH).b b(^L곲0k=;6pijY,ZE˟{:Tò \6j ZemdAPuL hNv<%6*64$M62yd,8PlUq f+jOe#;" y6x1CMGq͙DbѮB}/,5Uv˂dZtȈx"B<W/ceRoL{Iޏlxh@!rf@C0G vģAEAT\pE{ط@hLزm&)Xa1?(ԣ)F7[uxf,EcF(lܜ+p歹HUc??Q#j X"! WpA|}]5#T }(kD, AH$Rq};4߆'+?EK*&9-> @Їa00}UևEȇ‡a0}> @9`fM2sXڇX `>t!g;88|3#L5cX7#hؿ'X`<ؿE}?ЏY#(s/J.+BB"& nU$0hlLJIp0Z!%O 6N$H:&-^0R'PrOMXʃthH8LScbj uZE\Dqeà79B0Dنr Ws2E )b_(ˇ ,nqr+z@EڍL])6)!͆a} :f&ҙULؐQʴ.%^ICm`kH'NiBkp0<1\!tX#+!D%nC4<*6e*2r8.tXa+@ `^,ʆfR "]&.Erb6z+]W88>Go6-P09atRڹWz+@Ggƈ|ݬJPzl$[L[h0Y)4Uk6exY]e H[*^RX9R&^z<_TV\_\Q+qQe$]D>}D(<>^Y{Q*llbTu#w*懈|Uۑj\N Bed|sUʰ{E&W  =ܤD$rOdF4,GZ@#բyFXtVޮvXQ2 4ALќ́dcpPGefK!C4P.%(Q(8Sph)\* ms n*g|_,_(i9dO3pjp@Q */|<Wtx+ZA1aLBdK*1L@rRr^<ѷ} CܝFUyBt-T*/BUT*95'+/79;Q%XB͈e7ۈ)J55]ł"5+09b4'7.;W3D/a8Ɛ"Vˠ g }bB85Z֊4:H;h<9o6M)j6]j8j z2_pMW,8g J[xRu3< VGC,e'ۣdK~⶜vpH#ig-ҠN4fB@'‘횂&yU19}E^(m \W|{Eu4[1λRJ|$enZ܇ziE-YMݗ tjI EUG=YLՆ¨7ڈ7ЈLlD /_0y,?MvkVm\5 , Q TepAM!: H_  aQq( ~%9yHʷp{`W;Q77Ɖ'^w{/ 0b%QUSPjOzȤJ8%YȄX1B晴R@@m!-2d P֬uE0Mg߃Cz4sB`yQXaOfSz\^p%ޒ^.3q(8#{.7^p/CDp(.BJo*kmZyV~D(nf RU9Bo _99 x3`$ Vz yItptN5IF=$laPKP`s}IS/Z:$•_po????ܿ??g?ܿ(/ddS,ZeҼe,5^_v7s!oGt 4] sE mU~fGmԪuU_Vfns3ۜ,EÞ>;(;AuqPFYd싪s{ LwF(3#I5 :ldM8df$ a84` BpP'QjZ -x\V'z*m26Ȕ#4¹"VDygtjPXo.82iH "Byg z3J%gM hS I .ƌڧGg*9q{h ,6KUҌ0H ^ 8YN^HaX;(d+X(i Ch4.2(&! 6V#6 0Ӥ"rz'aD%8ܓLV`Ӭ 6kY?<ʝ 2\[{Ls@%25gɝ>397S8 T6F`۝N5v› $*AόZ H5{vv[Tp:zk$&4eYIuB^#V-B TC->'_ :ӲѰSR뱊h t8 U^ \sEKN:JII).`v;XCXcBz͊QĠ@61aڙ|Agaiz? nmZir>jjd"NaNU vBÂ#-YR0Ӓ-iLV,병idؙ|\6dPSBbQP~zT,$5ϡmhƼq*38M攩DacP̢[ Ӏ0Er؀M5שA*u睫:e&gU}ֈ22Si2SA!tDHW1-bڥA@Q d,$+gj`P`5\a~X^VAFӨN3!ƍlxҼL0zLjQ2%=LV!a8g$4cw!BcU0Y*'[0S*,lL#G)u2+ɔz'@Nz'@!5gbj֓y0@z*v3e̷쉮i4j?ˣ##UrE$?7NjM ДM ДM Д}=BAS4%@S4%@S4%@ߦZJ еsYUEASNg2)ne@-geT\ʘȘF< c<xgwD)5KqI:0F\^\Wf.<'{EnG6Uˆ k8f@ {|pB8d-z8=lg x^B|0FD`F!yU$Onhi-VYj}v~.la{FAFb@\4A<&]YCW $%eoh,X+q-6FBZNv:3^G:7ժU"&'tf>t#o34ňS*kt3]t#v0ZF6֮~ 0"+=Hҳ/WȬUgh& $zNhu+d y]okٽuMnBVoO]UAi- 8] tdK- !Z-3-9xy9kՒwtot(K?f琿/ V~urϩg綸筄c/?_ 3lg[nӁNK>]r{Z3jWWM_1OUqߟ<lKt W&9&鵪%C:7t{z?~~=^ujM?\ )su;=,i_ W/6HvEe^>tbjc~=Y^r}RbåSKKl)NܽtƩy+w#`gc?۶̂c?y`}[..]iZ6a„wg,C[j0[xۏU\t%lX|b׼كfK?0Ʒ?dlۊc[v0f[0rfb^xvݬ+:c׮^w);߿ɓ%?ܛrt{Kϋz;.X 3xwXi&bȾg,2tMGΈk3/?_8q8l~u+ӷ?4ykF~>R݇SoM`-:*bzٱEf]=8KB.R-8خs*lGv_ϙ{bE}":t0yZ9b0j.\o\Sү}˜uq Jd ڬ>ݽo1\~u\7Tj^&`R[xϿ,gF"~+"Ə*)ۢkߕzmE={3g\dIJʫ+;xϲym,JjQVkY\ثc6~EJ0iAfoK?X|o{gra[=sf/>8~WwlfnhZM zeA\l;[?YO5ثWK EE/OjҕNnF'Ѝ/0Xz-v+Kz:xaIŻ.;wWٷo~ί{w}&)^].qS~ҿ.ZH٢iW{tNԩ<8mG^kuW,Zj頂[cΐn~0Ke.]7힜Ŕ?1'd=! Q.^c>ڳGr u>GFw?ȴ:q={LZЦ]Y]IrU|uo (Zm/衫VUnx?If߻|vCۼ(wrmS?Rƅ|%| Y㒣e ƼsuUڹIx_ > )O"KTtn oWsZGoY˳+f-9ٷLk0:Kӏ}g%DG;3Z.WV_/W:__kfZj֌;㡄W&=>{ffL+NtAO(:{xqR iG&Yf1֤0o1`2f4%**B& TJHTV)$~, _}^>y<9} %u;I]KߖRfqFzNQGq}, =s;`ΎIzζB߿"EG΋oqh8ڽ_gnq۵tu.\J)_\oױ⋁qݩc}9C)Meק˧l4T4_QtPe[B ۑ-–{Ň]K$4v&>[o;#0(|AjYٓ'5f*VwuN ezK3o/ MW?2|ZR( jt^D+ĕn=6kuc; (W {XpIӱsx>!3Xu>t3mm={PiMZ\Ɂ-Ydh0);#1T陕uRu`#pOYn&e=rf#=/>T9mxN]&.kzK. /4k4^M .7^42M_+nP̦vo+EɷU7o%ù zlSа%@ۼ$Ȩn͂?.yw"&MOfLs,Bq򯪥;.(:;s&{suo 7 2-ܺ<&kC>&f D oV|W,-Hծ/$l^|$C_yxݳgVk֔MuVùvG-»z]\}n31%GxkA+Nnx5ƻK)v6h^[wyO) .l'c-|EKu`e6qdjɵMgtFoϹK}s?]Vsڃu'K.Ig4+gzczvNo-}AAAMA.q mhRuTz;qW˻xG Ue:حv\0s|EBόj.nT(tiF+#K#N_8.HUߔzoMS]m_V(Rŏz&Zy49/P:Ғye<^**DMV|% !IKH勿G֛sU7N:'eO)#=u_5ȕu[]3?k3 <.HeaM C ONXfس$Fk-4 xtamÛdKVxOP{`}Cgn%qh[dHhҌE)K6Ǥ?~@!%mWӰtӑJ!Ë~M{vӺrSBb6:p;/r =o5SbT66=S$^BgB9SkcDzO2IipI+@vݹWEZqOǽ^ΰt[~JԨRjW)6JJMjۍRwHɕ"ؖkn,XNj6&g-SzZVݛXUwYKރޥ& >\w (]]yza<~\瑰ԥÆлFw.ΐO?RnV}{Ku~RiUOnR%201h:s!ԆbwšB .^zy-\X4"9.u-Ӄ|xzCYyB;̚wlzSs;t˖} T{O3 rNս.~o7ѭV} nРɫy7̏2IpKtv^޻'lr.3⋇:Ÿ :TJy~%gφ.4hl[ϖf|r5h,RHoѶ7WUaUkTg*Dbmoܒl`oIE߇7='mYli4\z|fYJtݚC>LDnk_4w+ß./:#WoJ./{JY_߽&VV!239Aԕo.o AGA ѹnkC{2QjQd^W'k7V̏j?2'+kuMhM54.R<z87';~kE:ߦ[MknhPнæ.dF["!*ޠ]"0sQVD@T~ե-6*f.?N_# ]\ľH%v7ܛ6t_̣Pa{G q**dn#ݙV!WԾ(?`5|B#\&>,VpTn~ݬX|0;dcǵި͵ւQV96^/Ta%84U}eg76 ){ױo>yz+ WoM^~}Ϟ] nL:|"y䎍 ,GtϮÆ[7y`MscR!/>|޵,JgO4:#@VfiHB ~~d@gZQs |r`^dˬq2.,h==ǔ @}GbccIi׳u^]2ƇJ1lPn>U>|.U6K_\cQ}wuGB<_x {Ŭ +\Wv~t7 L &.b]ȄIKeP@@ w_zW-5\EӿrX_K{nz:p\n7rG@ ];k7|j'Ew+}3r?}*k-~u#fCER,_b!URN 5T\\& [zfpXDQv. }abGP{i_5C)K6,v9uqUvK \y"7wEC3q{ެU8EFę@kl,E=*ȫIvڸK_AEvLGx!m ?4bc 8KCWJm04gCFvu{Yt.5Қl]]HW?uXKJzCګjn[O<@2Ed}x7ǡڟ%Tޒ#\ZtgjsDy.ϛ+(a ĂEZ_=_U}suOSw|U<RK} 0U;0(wkmlhV.)o#7Us]̳sOن^%Iؼh뭽C z+ZD .o\=`4\zYٷ^ !¥4Ǫv2Fd&@`#BOⷭ>odSM:w)(o|Q1/kN㟖VW.V ZziѥGk/$4F -uݏ*6 r~iioϕ~(6o{;qW:^SSs]l%ҠҙB9 NЮm;遦?ړ.e85/S/LxB/Rqwk/C 6.Gȇr{KhѢI-ʨ{^존 knǣuQآwW_⌒:+Z dj\oO9Z:}fWE bꭹ(3758bs9m:nk? ?[WPBO\+[7u_t\\hǩӕ(\9fВ#ysqQlP}񒐸ޤ Ik׫GCPN缐Pқ5C~g_m);n(Ȳ?+?Et,g;|?|Ireea# C[C,"¦1ظ؂A{vl:~k\ V{~ch^w!6?Э5~jd0l-7QWpVTgl <:zv6k͍ͫŊU4-y}Xojw;2Im3\u5eŊ5JZ0aX ᡔXLR4]G}[v?^^gh)DEBSyr1U 6wWןoFR&=S]ZS~(+{RPpE^z6ZF1 rO6gDq:|dzwi޹FwPu7vk&%VFn5ă'bcԜ|*b7Ds7`#(o{=<+ng|CHr[3?5Q7 ۪cm<4{E%vJ,? I,9e/3x<+om;"VUµCgcѝsW\˓"ŋZms@ EbQ-ˈ+EEyk=2[$7? ݮ +t{EjTQc׻^Kz^yiZ{4gm{dXde |DEP/1 |kL5]7Įw_ZUނ\b6h=zԺ3lLG h4ĕkii$߼X:6'eX[#ky~Iev&^uw.\H$IsMMuu}]*hQmd7 >`w/^Y];V}td;լS,ݓj܏n6JwK>]3 F;*ɶmÃn&lѓkc {+㓊5wy"oIy>P6;.(uWޤ`o)b" IiQ7TO#.O+JOrA+;V([?wؗ'z{X7c[Cη][`]9sy?PtHX:%vg!6rK$qODo%ny5teG11]M(&RdA:؞#nbmwv_9ŸSS?!5 &Q|ObW`]nNю>[jv\6LHNInT ~1lVUJ #{oe\(a_ДjmPZ yWzo.At8ǟKΠM{XcmzMNDB]FbE:&VlCa/=+(*U\\aȭc 6^w-ݥ5ɷ6[D{-vXWy gn~X#/%YPgq{fi}TQw9sz;ּt^vwn("ܩ }3kff̖geδx_|yhH~8#^Y -u6(_:}}Ɂ2| B4~7״2^@//`7_`Gp@|j;}CЋOV9ybrtv74/Sn~v8(ܰM6{;w 2wM˩ƾϓ \ob\>ycyAAXFFds']2f-ZdhwlDFlN1a=x.Ѿ&g]sѨVΪ(} ǠWȆ{BQ@&w/5:[j,jY:Zg瓄KǚQbWqY4'g V :4]B*?'wwuk~-GZxv+Ą)S>e}zv]B͋Էh1~ *O7qOp.8]mlЦa+dêOfw;n1_ziW|ԣ'g{ T4ů|l{&`+ 0Ӌ3")B{lݛt| >$CM]B.kuW։CN_T{(/ DNN39/_-R ̛QKi7H;yr !ۊ3NsZu,0m?C4W`+XXUa7\y/ ȸȝv2z]oyAWXkǟC.INϖAι繿bkoU!ֈ+r%Z*1˯s݈enBF7qv=/>Vm͔=)}v !{o‰#5Zy}`-2S~҈hZƟ$SZz=1I|tV7REP5Ek{.sPtEgr?#i" ̅͒6Ʈ ievT<{T퓯ݳkl҅ ^oeͲͺreގ."w~*{[xjyD֛8̊|<%l)y>?J!b!~],Wb:zi u?qw[ۦk.XԜ"nq۝%׻gi+0ꐉЋG}BZ~ɧ-B05nx]֚W}7m5\#QqBZPSTz=)=ǹ/yQ!9w]җ6VbPu/pU-gi~gY((=X+{9z >`5vo#d q8.c[ĮT=>Ȧir'}дu&jazWeVUnh@{NVpX'ѱBBJJdm ]_?{MU4gCb. *[,eDcO.vћ56˗˼j{)) īڶ{%uR_t^׮|IM ٰw!,SG>e+ |;bיIaEbn-Ӈ?x髪߃֒s\,jOs)E({Wλ\W UUUWF\Mij}{,1At,UT\SQ-\}9a6JngDy~`PJ:~MN5%N'xTnC͂m. 8pLl:x{Rޛu5'{7vf{m_2ccQ/rAw ݊)~Ӯ mW N7biTt3n֐ۂu) guyd^ ̝͊+*Bi7^_԰lxO )% }# F.~{LNjl6hz@zo@̾x­x=xU_Bs}H4`wGo.-J?QKVN"k ..:пr5Pׇʯy8F5\+FEVl;wpr4WRT(pC'9\E4*GE9G< z@>Py[qbEkvU;EvOiZ`o3EXm0 ѯd,{˗/7gŕ+w#,b# #v;dҟXWZtfm鉯]e,2wphQCg\sÑ}PPxZGlf"aIZ(0tQbDM{ˇިs;vʮWM\ueזj߾yqQY<3~+ ->df&<,pwZ5y{z ' _y (j$N|ߜ= %LsչB!-a6(40;? [I\/4>͍=RKZ>>guJ_|yhΜ9ٮ3nATtHVOFg}O lC>ܶ 8W T?3||Gw.WVqڒrX89y=ކ;jY4OtU}8qҥ7"OYv43a^Ж;:P :sLSv p1Ip 0c&mãNBk hިv;`qc[xKk`[ Иg瓞;:XpIJ'؝!*8vn=sLEss:zgOj|tUgZt{.g틈aj܏4z 4`Kk^==홶.] QN/<ɲh&^q=sOL9ƺUk 2%\ڣwYXX8\p۾В(Oޫ?y.x6r)Yfڸ"/ o}z`~,ib7INV;w h 7a W:̎ T;ֳ>u(+3IQS٫ }W1K+>ijGV3C.BA\ldXYgTUo^MX"xT'|4mG_m| 0g 5DSq:Ta,5ٵWwo,tQ\rW9F6TƵOR;+b>9e-1|i))޷[_g]3x7fhy~TPStŊ0mw {v'|8gdHݛ; uI4yb e~->eDzRz{{OI*SllLtϖÚڔ>MMm]emhyaZӧQbo&Z+VqN.cv=RWOf:0S;6{7vge?qˊ^L,Jű7-~RRz W;~z0e;/eYJպAbh3IJOyGl>}Tܲ)% e( EE%uw} .z똭lnʃOK%i{Y5yg} АwVr\D kfpT}s{8p=#|$%zK% ꀽ 3-77נbTЗ}jT,˭L<23X`s ܱy `?;2w++YR?ZQg8ʸ'^?E(o<;/ИJJUݡ$ Y"UT_O=K0 I!'F%c)&( XƐqqZ\I#T!>[9Y?A 8 <y"?aZcG15d{>*}qB"`Ye=^NZFcWhk+Z3͛P X;p8ri3 JW2)fLJpxO%C!ҏdâYkKghwbBhǫhGcB49$bBN~k^44 c dAwxx 8nbc܌@$YYcQ Gz2^~a抓"-e`9B9Fa24 mP5 $]!" dH]6"(얂fԚ$YHcftJocc:Ed@,M--8W2YZmokΩ.J1e]SCNj1bJ&$ M8UT_J̌HbMqPD:-ywaPAM_4+]4>& ~D?*dj30 U`ƺPB'pc}ŸRJl< #`'Ƭ8օɳW/(*ݤ1N`Wrяai L32|M0BTqԈ~?bg<0y:~_Jiy n |M &R@j=[ ,=(#rG [^sX` c}s6T M粌l<^p\Qf2Y?qXE貅8zQzo&g3_1gA_%N|+NmLI59 )@́9XwMb4}51\a /H`< 9p"&E5ƞd"[hC87 @12x08i:jiQNF*7*T`=dKE?ߺ&l1fVe"0/^\a2|cX N+h0 G`cO '/^SG)Q@Y,X Gp#~E~ϑ>gX QxF LةfM%3 <9Ҏ *2V2؅eAsVIE 5U)(Pm-9HxwmĨ"vYМ$k#u3L$OAG!y(x@. "vYМhk3xJ<e-֨9H!D]_bpZIІ3JT6 *5ĝ:V'2'Q`_XHʓ #9̿مes"B񰠦t9e" x4pԈFE$̿EdO-"j*GqSP/x@"zn%y)$"Gs s1ĎM(2J5:NB`qs}_`9 ,?47S 5ƊH xM#Wb|BX(8Y:R[uT(_QHX1 $9Vb qRU ǩ =.d"ZL)M_7'<^ '*g~v!R8-#g=WJ BQ 9~@gfv#kwzRȮPpG-?9.'HyϣsU h"AbwY4PBen6m2o@f0f XM~FZy.Aؐ; s+Oc]\O Cx2ΕJ{txJm@ݽi^88Cӵ*(i+Jo_G`r3G(@*P98,'/9ZǛ^?eE'E$:@݉4 P@+ƃ#gwW:9y< U"v2к&'jIALxpQ}nӐQ (8 ]fW :Pe\Ɓfw(ms- F WQqD:r7`$wES ?ތ7Y0LX 8+P,E@pً,x,װb< 65B!bVIqd|!A{ap"vԾYZhH=UMU`$o-8  rEA{v\ 4p;/r 8`TfڍB%\42l <ؚ26) ilOnVtL 4*J"r1x^xr끣W8m}4 $~e,4b*PDhgL؅i)TplⅣbn#FxWn4@|T]cDwY7#[ Q$U!h] }; ;MH>887} }dPs=~[Rh.{x@WpA N$Ztq_GX VOb?EbiCр~^*")шLtHd9<at@IvZ Cvؚ0XҼ@Br ǖ' \#xW x7ލ8WN P n4"}NGpxw( 5FMw@7Nj#8v>b8@DI6Ӊ@$W('L7: +h$:3IZ:Y9c˛ -hՒՒe_A"ؒ+1<%܍IjЇ x%Bj2Kпn\NHH_\#Ygae|#o̊fNR:F?C00Fœt>F=<=z ۊ2Y9AYNM =Npu+0Y|D plNG(B 0Ee"'S@ ~X8 gf$z #1QM1NCA MUiJg4j01869}g*A\(|@ Hsp80 Ej =<$ho>8ǚм7wBCMSwۿ03MU*>+'RDs7&M-4ơ5GVB*)C (h u xo $ $6[9B"T啧 k7$DR80 BNmb778O/oƙ/P' π@P!@m *7UqB^CA0'W؄}60s"DM{_U36ӂX[QdAr~(b၃!x,H=?4Ips6;5LQ9LkpTp 8b~B0 Bs|Idω5b1/^ 7S~8mL"GefT@I lO > Bm"cIDAN$Q. `Cz2YJsX.|7YR"Z(xyBMb1+S;黯tDji 1Əe ܾ[ 9$KQ}0u7LmE_V,4 뵁& d`!8/o̗j Y-7Pj"W PK&9c?c}]+݆_}g9v#$bJ_1UaFdi"kAyk,o5`~!@_-."Xh$Wp 7j>DKbX_1 `6-MH_yDmnB,?9f@X peF3.YHO]ݡ(Jf$ICŊys'[Or38I"!WWՖHD"H ̯SJN'pBEX7rW8|16tƛl@G<bI\P{f=a2a2>vXx0YѐFBtiY{`V虬O9Pv]>L'w߿n !ڿsn5z{<G8weгWpU6>l{{ڡ>MsOQte἗4)(LLӯ \R"=vi ۦY|zM  4[9%.^KfzS8zx[DvҙJԭ\QTFI:Uy8=u&_q%jEX|5+%+hnJ)rz9οWfpAy]E2PWVgP5O)c*$b 5mݮ9!C*jͯ`_3ƾFMﴜSwŧWAj=fiP4٫4@P|R[Fl6PjWQT'[/|eCn 0XSE #-=CڔIk41q Ǻ 6UQzn2F@2Ь +H75EoGp9!Br3]AvjxÝL89 LRƍVGHՒ|(wk m2JùWJ\hj4{QU 4y{p9cI[~g,#4-ypМ ;"x*Xd1Cm>& l[o6U@Fy,#NFȻRqJ,TfK }Nh`FvBZyi.Lg ąf^C`x`8n{_P`QH`i[Uk٥bV+X'L'Z |C1vWwD@(Prq"\6nmJf)x N[(4-3_o"~a \O-72T*wSZc }B2O|],HNNmC&n[ (c8g% z]ՁloM'6ZPs|U2{z(oʾJémpYD=[EX .|R3Uܹsjn|qe3/ǁaq0lg6W=X9-F3:fn?}p8Ji뫠orʢfmQE 8(Ex.TIP%QÊ0tOVbϿ.;f]Ks)S+.T¬R;Y>l/dÀzÕG(֡j4+/v*W~gN#<&@πB@VPDr\hag:gzfyH $(GK3ݚ|K1EMo|B3!qMk .({g F\tS*ckOק 21JȆ甆䙠LWƾ]PlO$Vj!MEu?EۿYv0?3aV۽FWG 1WaBͲ>khkqߓ|i5՛Z@49rZBk5 㫫+?KiWق.i[I>*ԓ+$mb*~C1)b9bs}6RU{UWY:CyzIFe 8CYeH\T2R(#F3/“=)53ο!9< @RLR4!8A#shr-{ M˗L &/_ 3p̒gY( ~dD0(8aP@Pr.C1QGXni@PVB\Z 3~_VW (LƪY ( UPk#O#oܣmw bl^ Bݷ~?eO᧬l4Z4MTCДbДF*hJumo\w[?]nQVR *E~wwvI?7;?ho I}5cuMlԏ\@"yN#MDKQ klec3Џ<& 1"iX ɐ@pxJLNP`S"E6@u \)C_HrJEkSv"(0QIR&*!+RK}8pNiQAR C1@e(bjֿHѧXIipp¦Y`2!w:mɋ9" -kX2,b%g,u%Ĉ2"LT6e(Q?&J6"4l.30B`)ΠעDkQ`{[DQ!lfFQ<"b~4 !e(+a;`|sE)%q <3$ ' QTdxNCG 2˷ϴnG ݃yc/n-c;=Eo- X {V|I_kXąٽI#c_i`~j{fg_VlI0BP[xuQvWGj[2>ύX78aftssJ٪JW28I[xh3V/'_#&802-v2cNTv>3&8!y-(:u}VoWfF~kNC=,Z=&۫~y/% RV,rϳ8V't׳VO g4C~llMN{_ۘ%X%trs\q>j5*wAÝuZ~Ӗ|}NjH4<EʧP#=bu ~q̙M91N1125ڵٮV"׏ ;wleK]kQZyb $Amo"@*vpxMYzΞ. ҵq-,q"lA Uv*;HRسJReTA Uv*;HRe*ͲReŵtϭgiJL}lW])ϻZg\!f#8 dG{_%o$n ݣ 䪩'R G*F&:ߤGB顂^D2b !+ 灍*_Y!uPi֖3#"(0jrR "CK}8II 43Tђ0 H `"@)0zV&њ,QB=|M!.%TVD\z~"S- aC%5"5e`blZX@)_Ű"(Jy"gEWCWRPæH0OtX"H2G. BVTT\< JB)p)ywұ:到6J0,(P"B]rı?SI8?Dt58G~D\88YJo1"rQJGȅQ"XDCZ7Le/)/Q&Z^(u4۵K%A5VRFU˅%gTYoLDV˅.ȡY, 0O71r$3\O6`~{>8Ǐ_Amp f,d$ P] [ͪ(  YVE gRӉbze# kB1!Aݲ !-Ѝ,2EfQFAl8l[~`H,rO1,4EG8 \GTG  *‘`UaBI+gYLk 8n*H8.*$4UJ+1*TPY$ 3I]TQ)eZQ$e r¥)ЕYGP6fC3 S%$T o4Sڑ6Eu'C>=lƀf@im$Ie+XOpd66`iSw =r<5AZC5h5JkP̗x:'rkΉ+f,MOM >M+?WShZh ~LX09̿ŶD7i(e#nb )6ރvD!x&d c_ya Фl Pc laDޔؚ)|1ͅKta0 (ô G䙠LwOYQ#c\ljдVmKc{"Bj;ӭc`w0-4#L=0Xƭ]_=[#79ҁtp{ (lhQv&nG\Q/i!RseN革zFfUt|KZHk¿6)U*yvL>Ƅd_hߚ)RFvov7]]o~yLߜ} ?~RޯTn؃!Z8pJ|c7^|_Ӿ{sE_jT6>Fo^#:>8jJ ~ ̽FkާQ՛}|τR{EМͻR)ޜ|8~[*6Wt,(קeëQܜ̙ф>u-OнW> J?"`iki[{`Ï in "!?+ýN 7s[ ̎oSe| ݧ9y2_N/owk8@iY^WX[>8;p7xҧWWT`/7|H}o0>Nf^x8GHda(J+FHs zO43k4HP.o,x}r<?(+٥//|G O ʛ[ !N^ Q vm=RAUa@s=qqĐL8^<^['&;GӒRZ3a/"Z}ҵ3 lBtxx<1K G ,w_R[j m 2X kgNghkwzMXƑ`_4aIj<5X}q rpoN[ -9]fBc?ªVFIP F"Ryc'_(W͵@+j_0  v&V6f5W{[,(.+N4NAD>`ioQy&ޑڽ;z/[#i5܂pM\dEu6,/aj╔YͰiR*f|ɜ-%Fqwf )ׁ2۽&E3 #jm FmJfᚣk@k5t-+əLoɒu֒saHz ^ O~< aWjCR/n,j\{rő5 V^aN9$t!afzzI!5|VQIpÚ"< 0fNCWsj>>3#1;AWKP|;i$ PFCϟ߬ېs¿˃o؉MЧgz>`q+4Nb/ڟPXSexJoPkB(D^d?W݌1DMd0)64) s0$q#FCR0Md 9D\ӗ/SMiЦ )&8R&NZ+!OZRvUVr'sY>GL0/f2!L~1+"ߕP@e'XAdhd.8sr kaz[4F [-QNKБ"zu6Ù ˀ*@kTlpO i̺^z)9ri)_7FgK;ͯih`>&?d-}^aU=&[L &/_y);S$́;PE\&Vx27Fod%wfSOݩZQ~_)i֛Z痸bGs>eov{/D?=K-Y:Kt:>.pF/GPAxA=8;}NnCQ4J__Sv_Xd#o qB כֿrۜ:#rUaGӫ6zjJ.cy^9_VWg!\hZ;fl_"H꘧cض;ӥc0!6?C=9%Sr MD_L q P6zunO~ݴ7d7f =]  yךȌ"Ʉ 2v/~9?t8 )86K2zcB#^%|.-W.Ԙg[ ߗ~}{ |W qbA"n]|q#])9Z(7byCF!^9OФ{V]Gzm#LK⍬72lj}1n=/AJ5Ǯi~1řuzFo: اSo N~|m+sjꮉqx8`Ƥ'p }wS}ҹ?j]3_e'tg:. XL$t ]5 9>:aG'`&\tɭ~g Vs ћ-*WVOrEWjfij޳B?_M&vx}헒vWʮﰔ P?I[!f77b>o2KφMﱣ|0Ez Y Zoh̀Cj`շs6hzV5]DT+" 5J8͡JO@BHcdjP'_Yhb5M/t|6p~Bƙ 0% J h8n~> wU&JiWAQi *pߵ4pM:>5n֢(Bn68:nufC U;\WЍh@.p =)k[KQ#'*"}ae&(${J)JRTP. 5@} N#eTsxMbp@,}hxZW5t'_`jdcdUu XFH6yl#+Fey=8f.HLH./FqcĺwV  q:|D,0sp@h@~c2{J Ai:Kiʑ8Zvl،td.cS٨JAX{d>U\X~:fcsp(>e*FK yXp 0O[QP8Ϭ>8 HC-my"cI]2huDS| ;GQ gAC0 b,aYk.}p8 Y L.jZ Zh2dA1ȶjD,uhZ=ε D 'r 'zVO}{pQm^3 DeCqbQDT  B.'TE(L}Fa.O*M"@hqSm]tMgoDA;SE2g"(ɶA"*+b*g *2|&"`EFٮ"&fF/ȼ2R֮L3yoE&dzӲUd>X"#*G+#jP{ St2٦2d+*stdgh#U4D, yA {jgZx#ڱ+0ĘcѷC˗usJ\ *3=M"T0\?[Bє1cl̾jԚ=_uV#>a #{ exewU{ֻ^!#x*j{SH)loI77' ͜*pJo,q%%}6caB1[ux_hjЌLA!bۼI3fJaKe7TX1c[rWۂSgviTNoce{AaBqѰVeŒ-=ki?cu6"O[{֪YZ M$k66:ɀѠ1 KJ8$}YԺkT3X;OKξ WGhOMZ ғlC74aXZ;gDu"nUcT|7gax[R3&)8Z ͚ l5Fд_V dgYeS[;E\~h?JJz W ֋R{E[ xԡ\7ߖ|hqaa:9ӧQK9 M[qmj`-O_,bw&CVхýN SD{4Q6\wkPtwk8@i"B7El}f,l0XT~ZW=qU{ߎg&`0RM3k4 t]{e!Jçng΋p"zu+&lA0>0A:z5ᬌHUJY]OqM_<r`;|Nj7Mrꣁ/S٢0 ɟΡ͠3cP(y} /fYc.Ah[T;xu:NW&:}};&}e~!$\QW#BQqt\XB킎Bն+T_ BŅ*#63G0 Q *>SI'EA,OAHq9ſ&;GӒRZ3a["Z}ϐ@t\\ϲe(l n!D3<-8KwKPHg/}B45ԻJ=ڦ|,i7)`’Rxk [8D[>=>$[ɩC4/)j5i*86:xQS|93ѡ }/[V%_郐Jp {[,('LnG]qv M=x܇ ~&##{7`v\_677G0J҇C4KVmMnpGl.2nnEDi gĉ 4-t]p!1E˵%ѩWjӍoy҅{볙eכU17m[7T4l'4r7om qWD(P m TϙHޯok&q^0 XڰǾO</DD_az3ԛ|wM~|*~nBW]V-{9㯎aOU{?2@Hʟ8SSŚ_HZ{$H΁9wx9X׭76Å*3ݚ{?V|*=5EXdc{:ѵgW&CnN8q%H(Y=(r˼1aS} _ͧsH vjν#Jy&^4px0QԘ?C?]/'qzn'ܚ~MIk$Q{zIk̪9N8m]LZ*I_ߗ|]=W .+ҭk8Ь*ħ="yQS0?JJg,a&z}adbxaS^C#%IXL&xZOۘ45G7֌ ޭЭp&g2=S$M-'K"'Q檂1u0e(˓+_g%-k}s^3GN'xU9y7!LĿ쿅Ehw{ WJ^XY.~r޿)lO8 -wI ŕRIno3h#;a|R.@ vwHW_fA"fA 3~6ߺ!5?.)d~xGdҥ,DO'. 0xc/[s:%l΍RA[?a\G_R@;z<6rUYm :/+et R,|6:V5"m c{AZ)Z + xu|]%<Ł\{l bϒ9I:op8RLʨ`KX0`^< l=A 9'!ɭ80Pxcyچ>e"up>?%Q70Ib(uǸ ;G{/_CnFZnȾ7 UqUt_*.[?=ec}'V/ XBBOGD円h5,zpxJ5c)t;e-XM'd32؄)&4R&N5cji5LJJUYJX $xI&G>D2$:K+b;&>bVJ}m񮅪#aaB].p$mg*cĐ,4a-(s'~%Rag`Fe@mJ*kLQ2-7p6:`2kd%wfY #.$uCgE]I}^Rt}vJjS+W~#>2 cSnijʔ>'9,^2'7lT}~X xzfDo"Kb<=w8!ĿެyNTCzM.xzfZiJyԫ}rY%毤b3j?οC0H/k=V'J.OϙZ9 :ao[&,*Ce#5n\b|!3&2w:nc }9?xapyh0_/ l7 Gn>>CH7x(w˕ͫ.- /T:>l9%OO='S$pƜ ȑ 0K(0}{92 81砀lG.>|pj],Ll!FzU6Gs{o«,GmnOیG3Ys/!+odb>&+hår{: $@SJOgFMK'Z`# {d荏(7W ـ`yČݖݺgr}N؁ X>ɄG`0Z;x0[^WfE=hu -0s:iaƢal]Q~Rè%ķ+Ϡ?E!2>>7?Y}bA!)WR3϶HοG+L 5 ]Q,-L"Lӯ \R"=vi [Y2:ٯ0mhrJ]0(p>J3[[t8Fqz( M2mJPam՘;ܜV**q"rQo2 BC7B^z4DaX H-H j.d Q7"sFx*җe>Bw)|(&pMAtU&ki[w1f:yXEͳܳczu ]wZΩS #b8'Mv`xBbOjBԈ* vUE}BW6&Q*5Ud+0RS=MdENhN'pjSL_j_o)nD)a`X)DvoP(O~QGNQ-b}=2ˉ q S}Sg-1)1(L@2!IݸѤjINZBy\Xh疟3Mkgb~? u̐yaE?e/3b2c)#) >0B-Sf4 t]bo iv<-Y\ ąf^C`x`8>ݞ4ӶhI=9ײKБW3OZNZ8=BdBF9b&'*Ϸf9d=ƃ oͷbq"#b'GۀmE9Pp?֡j̢4+vRW~gN#<&@πB@VPDE2]hag:gzlK`woPk`nYmN?eCfب=·%m,X_@cĬ0FhxA1|̒#3,CLdjh71ӭ9]tۥ}; ś8 79 ;v-lkhAM>]ǻDG!!^cL/LO/]G/~zZ֪`:`H|,,w;wko(LVkZ+ύ.J+Dz0z&`tCFp,h#2;zлmoII n5yZS|v?Exm6nh m=6П{S|,3şs^w - [-^H࣍ծnܿ[_%?/ֆhdэl۝i۝iL;=YA"ݺ͊닡*u|Ћg1'SS}pAXկ^Q0p~Y5ӝ".Va ԫS+ MɁ9f\FAɐO55,I~4`koDzT˫c_:]`7-r ޽)>-|$'m 6ӏ3ߕ9ʝ=]rA@k+$ZYDGl/P 0HO2}w(&EZB9OU K:@cN!aagFJcz͕Ozh+<,~0ONL}+hU9rNwypMe:|-wjأQW{{UntާC`BAL`Ls`$E{/_nF7X%.  DK%rN'"x 5[ͨj'V/ H6!ӣղَ֠L4=N-MDXB`BH(#JixU+)*5kWe5+!H9K,}2Ye=HŻuW5$x=?5G̊w>px/B0c.8Cqrv kaO5J "A1ƽݒ%aߏ),Lf3YTZb{ZH*}, 'K07͑KK1b?Ch5b XK5 ̑҄\̡CKW*L.pF/GPAǁ1㟌;}Nn̄cbE>)I΀'ޛu?/7ͩ*9:="Z>}Tq?jWb<9e~U_x~f…V5Oa:`*Tnyyk=m3]:C|Ҟ)h~"Bw9S:?$\7ԫ>^s_nw7mŶ'٭C|84Hʜټqk͍rdg~̄M&|]='Ḧ́̐A?;xapyh\/ s ꑛDŽ#2ҍ^oU‡ϒa֤^Owi0\ Pc^ߟ n͖3_b A:󄝲$m8cJHf >tD/n0\ Ĝ9G"rt0gp{0ݴ IJfB,;oUH0Y6$+gt۟5`_IV[x8cI5F81/c­@\շVc>H5/v4&s8}1_]PM=8a͗OM#a=reNM56̘4:O<9znO\:0 W8ȼiw?MUvBw6R0DBMp7Y ;>sΞ0ྉKn; Mr 3拆=h0@b:zNoXv6vЮ]ٻo++Og֮g-ϥj DƎ#㻝5L6Ġˋ۠WGߒV" !`P>ZNf3'(.$l˥$Bmd\1ӯ+&ƺ_a΄p@4aPJh%ط ( Y;+*I j?gMCZExmoم4EbB%psfRS1RB!IS Nie k1Ch,F+eZe(gD|8*% Z!@]P ^Dʂ)YR>}8{k|<`4).0L<+-KyO-$CPI/uecn@tXwllTac?$..q.ǧ񻺢~}PB%Rb]lt uׂnGcC)-1z :\=6'\' YQQ}xY\= Wʞp6hXidQ]Ӎh! 9=}qXuɀ'4<-x4 tJ]cVF^!bOvhqsQ䫵Pld%1W<$N3UX)8)lFo"`8B0oO\놂I%5Y`Oh8N?0&P}!ze \Z|f ]o';tfd4sZ8Il`p7{`̹ 2o*U. SF\x)&CS3smwD~? q𩄆LۑXeo4cPhAG=_cP+*kߺ h] XUlz `V;^f߾q-Z ݐqZ؟@͟l09Zo~ 6Wk w : V|Hk!B5V}6cW!aAC`h@_,aͰ{t`*B)ӌu$1܄5Ǚ[ hgf'A;cI)|$W=m,[lVF=im.\ A 팵 lE"{eLi1p,,WPǺrШYh3EY=s&ڊA dLWKKhi [tn+πc-zémp;bt k%o[OܼmgXMh8(wWJpCLQVZdoۭe'{5w'Nfܼ"eEQx@[wM.菲x9a"NX `:Ō&/_y`GQVdӀN6Ҫ.tAH-fHf1[40vk!1Y"sλP]Gk|WcXb6_d.W~yk,:HeXȼ &1pmpel5F[\hQkXa).MK ߚ%\Y:|JY"O4Gd!#FY >i\XbЌ)x]_BӪ*DJ*TQ}-6Q,$c7_Y? VsdV3B rgoTpLk P<*THf5/PxG`_\Jw|B3!.hyҮ96 }N&e{g &T\Oi.\Έli@<9^X>bDŇaNO9*RF&֪6({ߟbfQt;}Cߡߟ]%~$Q}=cn}xǾW .Qv}軨q;oK_rah6[,cz*'%0HycKYUD < 1\V2dyuSyMUFp0֒^?:xbjD|"]tzK1A \ӥu曩wS1 Gpx(@A\.3l)qܪ г%tođ*k,? D-Gc? #p!y 2݄d8Z'.89Fx&%,yJ<% A ->+7{ Pv(r"^fnnMpH+O/PL:od lo\YR$>l X:`,U+*؂{D#4rrߚ( G}< ;CA 1 l>vn4ͳaj*^G2NtgZMu.- ^1g h5&{0葋$Ҋ]ΓǸ}H8oZ I˗b[a[#YOJAL+qM\1o>.] [?~8FG>\񌗿 ^ppr2>.;֝WX>Q4OSncG *䐗DsB2ly-4]pi6Xĵ!rS#DZmm%ZQ*5b}39Gdz|&:H0cJ|jAR>Oqy.!txyo}H:/P"SJJ0KD!TF`)jT<-a\K﨓8I'&‚}uJʕ~6G\N$<;]VodMlR/@"cEit00tr>ĨcHi^1c^%B0`&a-*gC .nǖw:t;YP!{=/2p.V5V$:n w L;雷^d?QV݌[oG{$Al,JzOO,< × b 9?V:2==uAփS:\# )c;71%];PXM'd)R c0%YB`BH(I#Ji^3VPȞVä$>Ot]u@lδ,}2] /Y^idޡK5&>2|7[Yüǻ"s8Lq,$m}Qbȏ>*iGx~?t3. f VI{ ^)J\fEYY#K/3KLROkܢj5[t>|Y%OnoJg٩;r7'_*>65熜Lyszs<4~|tnt]C>9.(r OFLxoL}~X xzflDo"K% ΀'ޛu?/7|铪?<|hToOU1M<zO.ToWLpfUUmu'wsc}9*bh'RK6p &g ODt>gjdȆ-os;ZU#>˦Gt{kxTݚ<$H8qG:]AN׍mOX^ܨW])@A_y$O]'v`9m7 .4|:ƥIa^a=nQ\}<&$|@n<~ {>&e6rjKE Յ.~&5[`DKi#:?s" >Eg_ɌSȃ#ܷ`lj9d =rt'|œ]Oφ+n 켡We#LAp4WǛƉ~/r?vVp-f}z0 @L=reNM5Ɂ0픻dz~!wS}BK 7~Ng)\Nt# ft؎^\w.u,{d¶n; M0x 0V\+@޳Vb?#٤&fL S{ vEJ F߮?J*aJ3[[t8Fqz( M2(JPam՘bp>NK+BKV|ISBR$\Vb#K=GhǍ5 ,`Xc(2@ Rµ YtT\f籫H_fJފ ݹ)5L\UIj]z3<mF;b]3ƾFMﴤb6Yj9PSd4Z^ZP|R[Fl>PC4 Q 擭d!7RA̰z6d+0Rݳ6`99ML±FPznlxMv@M`a)ڽ}B8 j ) Yi:GZv:r vIP"ý'Z71c5q< Wy5'1l}k}Fa+ g幕~- ɏXҏOqFvĄ!B&ۂ,,FnT8P;[>چLPb9 k:(aԋ!cWC/.}ke 5Ƿe.bsvTNm{N%*˺$WVpʞ}Ps+3AuM} = p;{6R1Zi1tV&1t!苅c? VOX_|הVռ6m(o5e,)*,ltJG*Vlr }E%=w 1# oS~_Kj'^pfOȈ6`Q37qm d)de-ϟ`K/}5?'đ('ɵnK ֜.[:tۥ}; ق4b.7qć 0v-lkhAM>]\`wA6X4d"M z<%5?5 K^ + t)#׿/Qlc③Tg4>$ )u1aq˥q}X00hDJP7AG ̃@*/ֈy,2>'=a hr8qk9])uITHIy30]H9@}(n"yD~~ߗЖW08a^;SzVe<Ԟ* -jɈ^z?A13<_3$pN:! gJʔi?c1T|薙= = N؎HF8o4l$7quyqE1hJJjH#^)Ԝ  Z heqaS=7@@QrС1cYhY\k?j`@ cojQf`ц6HGA;o.qJn9bZC_C 7}h|\A +F-#5N&O]k֪kJ )dnJNRrk(*Lu [ښ-A4=A8G h:"MHGF{Oxbl \kÊelrZ "Uj;jVN^Z4g^+7߬VNRmVR2@uFY+j\Mk͌H@L᥈Zt-j j\l$U v6 5p["\o&Y)rSM,?*z6lDt< SV=g4[]UikoAi[rZ_L'g~v> SڤDZgE?Bu 3 ޫ{9nnN_[x {S{I{Ak +L4uFRK Y;j54ZjOkkX݉I)tRS~]oaEr{fET 41{>I1I~?  tHs$ SѤ;y}ˆp}>> EY QD F ֨^i#9Ӛ|PѸiꚚ$J+:7e5Sg?T;C1 /469 jsmjsXe<"-TDQIš}{MxB-0H`~FLӎkU.2"!io:ׂ>ld:k}^{jH_Ue&?/-ӹω.Տ#fkMOa fbLu74j%6b0x*(;_GQ't'R=Nx=꡼"u7ҺZeZשi(ң$BkUuj[z3/MD_Q_*0hgUcjOp l 14a;MԧPl̙XCrh]}#;^Ўю׵#PPCO[598+'̮M6ɠ4hFL>~y㑿>\C/P7wjIS,e>PTV|/9s&L__sZChorp:qV?mkgQv>p6!dVImmw^NLPMOLm=qfΕLhd' >3't2NDg9ށ:Y[b Q?U|߰Otf]>g# sEjEFRk* R ;NGݳQ`nw@8*[9 ֊z NRtϖuv2ؒ*9aJ:MuNFIӓSNc:k}D:b FF6b.H?"+7>66/imaj5F^=ܢY`j(}.l)UKWCݧ\+}fW@tatZ>Nxv}:ؠ6>tݟMn!-JbΆް';`T\ ;tE٥ u[(> MLJB>FRI^zԳ/uq } l"e:2b 綂ѯCH-hp*|хZ>#0m6m6HB<ѨVms_YՈDj[ m.<4PU±Ss gJ5:ahj`VipX|?s1utÐzMUn˔h4*w0V|g3^ZZڬ멥jf ߍe/zfy_utf|qt:*i5]G4Eb G75U5d5OIASӬTf>?\+sj4D,rxydG+yN$iՐ*ÓFZY26ګ8VpʍXKxÖo˵%YV0]mL-Ik~AuǸE= D3<55FLqlp/,xTpQ^zvoa]~L8X cO@eXD"um(ٱR"2 E! 'JRr?=' Epz 2}Om{k>>+l>μxM"ıFh/7RȻys_8G I6mji0xxi|?&9}נ\{EaXׇO`ac`/}q=V-@4!uL0P;% Gj f9N^%jZ%`3N}pi&ܼ^{̫ PxYRnCaYtpGT9ʝ=]r``rU`֐WhFÈQfGCKe9m.qy+^n]˭VֈT%b˚&{>M".㚭97ԖR=R5/G;A9n΄ tjʩkH9{;3tLn$Q!N F6,DzQTnYk8>zUYM;XNjhkUӅuy\r.uZ}@kSQZNkkRUۃz;f'HU9P&dv;>,`S#qi[Z-C{*/GRR}D?jĆTmsr-qԧZҤXVݷܘF}R}aiLD קZn$F}rAE9o/^ns*('Vr"(HtT#rZ$QQN-g;-Pe90/rf3{>ӝ/˩F3[-ȭ^qS[<<}E,ł(O3"7Gu8Ȝ{>uU&t$)^N;GbTp1}rk#s?Wouy}ֈbO#cy=u޵hG#LrZ0qr[[GзvD`3QլJQ9P̣öHvǜcZO?0҇U)'J? mAUcݹ31hr L_Od\`XܤqyuӲ4~o^(Շ_m>j*7qtMU9HYzq=Vr=;T%{=ɨҷsUq*[SZ3uR+M\t%kL& ;*- Nkӈ砜P8~o>trF1T}}}L\c ~HB` G;M[82<\ن`rPTȺ%"&:U6rj V]r<msȇMG⎢rrܚv-bnVUW^7xяrjQg85h-FSF9s|+L蹚SCTUN Ո~LYsBMQ-7˭&o/M1yo|בbf\ѕ뿘nC4.|[qįbL9"Kj-r9H/;9W3ې[d]yjMP} H9xUy̌RW}itSc$c=DN*:O^sf̩s%>3Zεw",amwd]lf=4x?8SXmP3>F0?r~߂=@;*3C&2ڋ@} YY|+]A9U;%Z:Rd~1'[Yw&sPn)_O9(Oq=魤}Jr8zQdqL{\¬N6L}P\:A+RR{ʙA^ie{n,gK$c׷![VUk+r[}7<[/8b1mVӑsp)K}"?bT7z-ve=y/,')Z1C\VgUq)ؚsԱp.sAjʑɱK|8UӐXEFjDY stapԢs9f'ԾO;w3>St1[}a[rrz클 ne,Ib%h$Kh9,.J{@וsvWXNd{N+\z7PUz?[VKzA;Zw8nK,ǣ+"J7yбaVmwQׁ o-f}GW>9GԃiDWYi$?>D՜sѸT; ,G/,hrǽK{, T&s -5r#RP;#*{MozpݠկWE֑؎bAj$ ΧLߤkC#k}"QX6"PNΩ|ȭ)Ί5kNqނq#}T tsiR 5 }Ma65t!,Ȓ%5cXӑGY9[x?+wz9;̳~ x?8r>3M1UiƳ;ޭ!qT:sX_zv--5 5g9߆،nz.5N^C9̇S\N-ZtNu}`(ϷΔnkJsiR9ݪ?Qm;Q5P>>\LQD'|WUfS`RK|wʹfwcqN(VZF}{}:|!=t/щ5-o֣2-Ǝ?(O[RZ^46w@6ʉ y 3[܂^lq i\wj-ķ~DŽ'á}Tjܖ?TS ף6#ӥ[-^kJ(зRMkÞ-|H ,kz KێiMTW[ԕmQIL#2LzPh4_Lg~=pY}h\ 7;-q/\?i=Rglb*OW>w;z/T*kP8G,2[j R)f⾳16ur\ɹl-'&6Y:w֝Z0ԋ#F}ASN]-#c?0ǻOʇ?[Yd?7j5ܬ6;7.|ݿ:X tvouB{Go|bӿמ^(PS`. @|TtLt :BʀcO ~(3]2=26FX'%q C86=⧟` 9\Vِ3 iiGANyijS;EJgo#^P.Έnf?Vؽ5n{U.^ mgd:=@S|U {:1xq'f-ҚG,0[pZCY(gGpt Xve]@͈=<F{<<5>.nݠ{텪' 4`h?x&)|ֈ 8=K״AG=n> Ci2 `b}/'L#U@2e*`@\q7=9=;xVxKųLC+RZnzPh$5ET=RŮ<цt[sFϯo>|~(۪/\*b=pZJ$r~ VQ&BtSֹ;=64 :Xlj Gl*.Lk:kHb-?ΖK'i0԰enR^'V<=r)_MA}-'w `|l _"EB9ZQ hj5glaqd.Ȝ,tЧ(}|>:>r8]+[K/q^d89&C,K(])WYYG$kꡃӒ=oicD gߡe ~vȯak}ڡ$zBB}l^lͮgA3H ]xQM9ݔCyp%N>@h˳);G_i=fUt'{h܍6zMs=Dq' I6F&7l~#9|gQ~\:?T͝+s+]߹Ε Do}F܄-ϴl5ZI_w'orkT{ڟofzrvWV+3qd~sI?GOS>>>>>