Package: orthos Version: 1.9.0 Command: /home/biocbuild/bbs-3.23-bioc/R/bin/R CMD INSTALL orthos StartedAt: 2025-11-25 15:46:46 -0000 (Tue, 25 Nov 2025) EndedAt: 2025-11-25 15:47:01 -0000 (Tue, 25 Nov 2025) EllapsedTime: 15.2 seconds RetCode: 0 Status: OK