Package: orthos Version: 1.9.0 Command: /home/biocbuild/bbs-3.23-bioc/R/bin/R CMD build --keep-empty-dirs --no-resave-data orthos StartedAt: 2025-11-25 15:49:10 -0000 (Tue, 25 Nov 2025) EndedAt: 2025-11-25 15:50:19 -0000 (Tue, 25 Nov 2025) EllapsedTime: 69.0 seconds RetCode: 1 Status: ERROR PackageFile: None PackageFileSize: NA