Package: RbowtieCuda Version: 1.3.0 Command: /home/biocbuild/bbs-3.23-bioc/R/bin/R CMD INSTALL RbowtieCuda StartedAt: 2025-11-25 15:46:46 -0000 (Tue, 25 Nov 2025) EndedAt: 2025-11-25 15:48:30 -0000 (Tue, 25 Nov 2025) EllapsedTime: 104.2 seconds RetCode: 0 Status: OK