Package: RbowtieCuda Version: 1.1.9 Command: /home/biocbuild/bbs-3.22-bioc-gpu/R/bin/R CMD INSTALL RbowtieCuda StartedAt: 2025-09-30 07:45:39 -0400 (Tue, 30 Sep 2025) EndedAt: 2025-09-30 07:49:43 -0400 (Tue, 30 Sep 2025) EllapsedTime: 244.4 seconds RetCode: 0 Status: OK