Package: zlibbioc Version: 1.53.0 Command: rm -rf zlibbioc.buildbin-libdir && mkdir zlibbioc.buildbin-libdir && E:\biocbuild\bbs-3.21-bioc\R\bin\R.exe CMD INSTALL --build --library=zlibbioc.buildbin-libdir zlibbioc_1.53.0.tar.gz StartedAt: 2025-02-04 09:11:48 -0500 (Tue, 04 Feb 2025) EndedAt: 2025-02-04 09:12:04 -0500 (Tue, 04 Feb 2025) EllapsedTime: 15.9 seconds RetCode: 0 Status: OK PackageFile: zlibbioc_1.53.0.zip PackageFileSize: 369.2 KiB