Package: zlibbioc Version: 1.53.0 Command: /Library/Frameworks/R.framework/Resources/bin/R CMD INSTALL zlibbioc StartedAt: 2025-02-03 15:08:28 -0500 (Mon, 03 Feb 2025) EndedAt: 2025-02-03 15:08:43 -0500 (Mon, 03 Feb 2025) EllapsedTime: 14.8 seconds RetCode: 0 Status: OK