Package: zlibbioc Version: 1.53.0 Command: /Library/Frameworks/R.framework/Resources/bin/R CMD check --install=check:zlibbioc.install-out.txt --library=/Library/Frameworks/R.framework/Resources/library --no-vignettes --timings zlibbioc_1.53.0.tar.gz StartedAt: 2025-02-04 00:07:54 -0500 (Tue, 04 Feb 2025) EndedAt: 2025-02-04 00:08:18 -0500 (Tue, 04 Feb 2025) EllapsedTime: 24.4 seconds RetCode: 0 Status: OK CheckDir: zlibbioc.Rcheck Warnings: 0