Back to Multiple platform build/check report for BioC 3.22:   simplified   long
ABCDEFGHIJKLMNOPQRSTUVWXY[Z]

This page was generated on 2025-04-09 11:55 -0400 (Wed, 09 Apr 2025).

HostnameOSArch (*)R versionInstalled pkgs
nebbiolo2Linux (Ubuntu 24.04.1 LTS)x86_644.5.0 beta (2025-04-02 r88102) -- "How About a Twenty-Six" 4737
palomino8Windows Server 2022 Datacenterx644.5.0 RC (2025-04-03 r88103 ucrt) -- "How About a Twenty-Six" 4524
Click on any hostname to see more info about the system (e.g. compilers)      (*) as reported by 'uname -p', except on Windows and Mac OS X

All results for package zlibbioc


To the developers/maintainers of the zlibbioc package:
- Allow up to 24 hours (and sometimes 48 hours) for your latest push to git@git.bioconductor.org:packages/zlibbioc.git to reflect on this report. See Troubleshooting Build Report for more information.
- Use the following Renviron settings to reproduce errors and warnings.
- If 'R CMD check' started to fail recently on the Linux builder(s) over a missing dependency, add the missing dependency to 'Suggests:' in your DESCRIPTION file. See Renviron.bioc for more information.

raw results

Package 2334/2335HostnameOS / ArchINSTALLBUILDCHECKBUILD BIN
zlibbioc 1.53.0  (landing page)
Bioconductor Package Maintainer
Snapshot Date: 2025-04-08 13:00 -0400 (Tue, 08 Apr 2025)
git_url: https://git.bioconductor.org/packages/zlibbioc
git_branch: devel
git_last_commit: cd57560
git_last_commit_date: 2024-10-29 09:37:11 -0400 (Tue, 29 Oct 2024)
nebbiolo2Linux (Ubuntu 24.04.1 LTS) / x86_64  OK    OK    OK  
palomino8Windows Server 2022 Datacenter / x64  OK    OK    OK    NA  



Results for Bioconductor software packages that depend directly on package zlibbioc

QUICK STATSOS / ArchINSTALLBUILDCHECKBUILD BIN
nebbiolo2Linux (Ubuntu 24.04.1 LTS) / x86_64
009
018
0062
palomino8Windows Server 2022 Datacenter / x64
009
027
0034
000
Package 1/9HostnameOS / ArchINSTALLBUILDCHECKBUILD BIN
bamsignals 1.39.0  (landing page)
Johannes Helmuth
git_last_commit: df2b237
git_last_commit_date: 2024-10-29 09:59:24 -0400
nebbiolo2Linux (Ubuntu 24.04.1 LTS) / x86_64  OK    OK    OK  
palomino8Windows Server 2022 Datacenter / x64  OK    OK    OK    NA  
Package 2/9HostnameOS / ArchINSTALLBUILDCHECKBUILD BIN
ChemmineOB 1.45.0  (landing page)
Thomas Girke
git_last_commit: e269adf
git_last_commit_date: 2024-10-29 09:47:40 -0400
nebbiolo2Linux (Ubuntu 24.04.1 LTS) / x86_64  OK    OK    WARNINGS  
palomino8Windows Server 2022 Datacenter / x64  OK    OK    WARNINGS    NA  
Package 3/9HostnameOS / ArchINSTALLBUILDCHECKBUILD BIN
MADSEQ 1.33.0  (landing page)
Yu Kong
git_last_commit: 4a2b4e3
git_last_commit_date: 2024-10-29 10:11:24 -0400
nebbiolo2Linux (Ubuntu 24.04.1 LTS) / x86_64  OK    OK    OK  
palomino8Windows Server 2022 Datacenter / x64  OK    OK    OK    NA  
Package 4/9HostnameOS / ArchINSTALLBUILDCHECKBUILD BIN
maftools 2.23.0  (landing page)
Anand Mayakonda
git_last_commit: 689045c
git_last_commit_date: 2024-10-29 10:12:31 -0400
nebbiolo2Linux (Ubuntu 24.04.1 LTS) / x86_64  OK    OK    WARNINGS  
palomino8Windows Server 2022 Datacenter / x64  OK    OK    OK    NA  
Package 5/9HostnameOS / ArchINSTALLBUILDCHECKBUILD BIN
NoRCE 1.19.0  (landing page)
Gulden Olgun
git_last_commit: 18045b1
git_last_commit_date: 2024-10-29 10:44:27 -0400
nebbiolo2Linux (Ubuntu 24.04.1 LTS) / x86_64  OK    ERROR  skipped
palomino8Windows Server 2022 Datacenter / x64  OK    ERROR  skippedskipped
Package 6/9HostnameOS / ArchINSTALLBUILDCHECKBUILD BIN
qckitfastq 1.23.0  (landing page)
August Guang
git_last_commit: 6d6381d
git_last_commit_date: 2024-10-29 10:35:25 -0400
nebbiolo2Linux (Ubuntu 24.04.1 LTS) / x86_64  OK    OK    WARNINGS  
palomino8Windows Server 2022 Datacenter / x64  OK    ERROR  skippedskipped
Package 7/9HostnameOS / ArchINSTALLBUILDCHECKBUILD BIN
Rfastp 1.17.0  (landing page)
Thomas Carroll
git_last_commit: 0411058
git_last_commit_date: 2024-10-29 10:49:46 -0400
nebbiolo2Linux (Ubuntu 24.04.1 LTS) / x86_64  OK    OK    WARNINGS  
palomino8Windows Server 2022 Datacenter / x64  OK    OK    OK    NA  
Package 8/9HostnameOS / ArchINSTALLBUILDCHECKBUILD BIN
seqTools 1.41.0  (landing page)
Wolfgang Kaisers
git_last_commit: a203e78
git_last_commit_date: 2024-10-29 09:56:52 -0400
nebbiolo2Linux (Ubuntu 24.04.1 LTS) / x86_64  OK    OK    WARNINGS  
palomino8Windows Server 2022 Datacenter / x64  OK    OK    WARNINGS    NA  
Package 9/9HostnameOS / ArchINSTALLBUILDCHECKBUILD BIN
snpStats 1.57.1  (landing page)
David Clayton
git_last_commit: c8d8719
git_last_commit_date: 2025-03-27 18:25:24 -0400
nebbiolo2Linux (Ubuntu 24.04.1 LTS) / x86_64  OK    OK    WARNINGS  
palomino8Windows Server 2022 Datacenter / x64  OK    OK    WARNINGS    NA