Package: zinbwave Version: 1.31.0 Command: chmod a+r zinbwave -R && F:\biocbuild\bbs-3.22-bioc\R\bin\R.exe CMD build --keep-empty-dirs --no-resave-data zinbwave StartedAt: 2025-08-15 00:03:25 -0400 (Fri, 15 Aug 2025) EndedAt: 2025-08-15 00:05:59 -0400 (Fri, 15 Aug 2025) EllapsedTime: 154.8 seconds RetCode: 0 Status: OK PackageFile: zinbwave_1.31.0.tar.gz PackageFileSize: 385.3 KiB