Package: zenith Version: 1.11.0 Command: /home/biocbuild/bbs-3.22-bioc/R/bin/R CMD INSTALL zenith StartedAt: 2025-09-30 15:59:33 -0400 (Tue, 30 Sep 2025) EndedAt: 2025-09-30 16:00:09 -0400 (Tue, 30 Sep 2025) EllapsedTime: 35.6 seconds RetCode: 0 Status: OK