Package: zenith Version: 1.11.0 Command: /home/biocbuild/bbs-3.22-bioc/R/bin/R CMD build --keep-empty-dirs --no-resave-data --md5 zenith StartedAt: 2025-09-30 20:46:52 -0400 (Tue, 30 Sep 2025) EndedAt: 2025-09-30 20:48:44 -0400 (Tue, 30 Sep 2025) EllapsedTime: 112.2 seconds RetCode: 0 Status: OK PackageFile: zenith_1.11.0.tar.gz PackageFileSize: 666.8 KiB