Package: zFPKM Version: 1.31.0 Command: /home/biocbuild/bbs-3.22-bioc/R/bin/R CMD INSTALL zFPKM StartedAt: 2025-10-08 15:51:52 -0400 (Wed, 08 Oct 2025) EndedAt: 2025-10-08 15:52:20 -0400 (Wed, 08 Oct 2025) EllapsedTime: 28.2 seconds RetCode: 0 Status: OK