Package: zFPKM Version: 1.31.0 Maintainer: Ron Ammar MaintainerEmail: ron.ammar at bms.com git_url: https://git.bioconductor.org/packages/zFPKM git_branch: devel git_last_commit: bdfb44a git_last_commit_date: 2025-04-15 11:13:12 -0400 (Tue, 15 Apr 2025)