Package: yarn Version: 1.35.0 Command: /home/biocbuild/bbs-3.22-bioc/R/bin/R CMD INSTALL yarn StartedAt: 2025-10-17 15:46:12 -0400 (Fri, 17 Oct 2025) EndedAt: 2025-10-17 15:47:00 -0400 (Fri, 17 Oct 2025) EllapsedTime: 48.3 seconds RetCode: 0 Status: OK