Package: yarn Version: 1.35.0 Command: /home/biocbuild/bbs-3.22-bioc/R/bin/R CMD build --keep-empty-dirs --no-resave-data --md5 yarn StartedAt: 2025-10-17 20:44:21 -0400 (Fri, 17 Oct 2025) EndedAt: 2025-10-17 20:45:37 -0400 (Fri, 17 Oct 2025) EllapsedTime: 76.3 seconds RetCode: 0 Status: OK PackageFile: yarn_1.35.0.tar.gz PackageFileSize: 2.975 MiB