Package: yarn Version: 1.33.0 Command: /home/biocbuild/R/R/bin/R CMD INSTALL yarn StartedAt: 2025-01-29 20:34:01 -0000 (Wed, 29 Jan 2025) EndedAt: 2025-01-29 20:35:08 -0000 (Wed, 29 Jan 2025) EllapsedTime: 66.5 seconds RetCode: 0 Status: OK