Package: yarn Version: 1.33.0 Command: /home/biocbuild/R/R/bin/R CMD check --install=check:yarn.install-out.txt --library=/home/biocbuild/R/R/site-library --no-vignettes --timings yarn_1.33.0.tar.gz StartedAt: 2025-01-27 13:59:50 -0000 (Mon, 27 Jan 2025) EndedAt: 2025-01-27 14:08:08 -0000 (Mon, 27 Jan 2025) EllapsedTime: 498.4 seconds RetCode: 1 Status: ERROR CheckDir: yarn.Rcheck Warnings: NA