Package: yamss Version: 1.35.0 Command: /home/biocbuild/R/R/bin/R CMD build --keep-empty-dirs --no-resave-data yamss StartedAt: 2025-10-07 03:58:16 -0000 (Tue, 07 Oct 2025) EndedAt: 2025-10-07 04:01:37 -0000 (Tue, 07 Oct 2025) EllapsedTime: 201.4 seconds RetCode: 0 Status: OK PackageFile: yamss_1.35.0.tar.gz PackageFileSize: 466 KiB