Package: yamss Version: 1.35.0 Command: /Library/Frameworks/R.framework/Resources/bin/R CMD INSTALL yamss StartedAt: 2025-05-26 15:45:32 -0400 (Mon, 26 May 2025) EndedAt: 2025-05-26 15:46:08 -0400 (Mon, 26 May 2025) EllapsedTime: 36.4 seconds RetCode: 0 Status: OK