Package: xmapbridge Version: 1.67.0 Command: chmod a+r xmapbridge -R && F:\biocbuild\bbs-3.22-bioc\R\bin\R.exe CMD build --keep-empty-dirs --no-resave-data xmapbridge StartedAt: 2025-08-15 00:02:12 -0400 (Fri, 15 Aug 2025) EndedAt: 2025-08-15 00:03:33 -0400 (Fri, 15 Aug 2025) EllapsedTime: 81.1 seconds RetCode: 0 Status: OK PackageFile: xmapbridge_1.67.0.tar.gz PackageFileSize: 2.903 MiB