Package: xmapbridge Version: 1.67.0 Command: /home/biocbuild/bbs-3.22-bioc/R/bin/R CMD INSTALL xmapbridge StartedAt: 2025-09-30 15:03:01 -0400 (Tue, 30 Sep 2025) EndedAt: 2025-09-30 15:03:08 -0400 (Tue, 30 Sep 2025) EllapsedTime: 7.1 seconds RetCode: 0 Status: OK