Package: xmapbridge Version: 1.69.0 Command: /home/biocbuild/bbs-3.23-bioc/R/bin/R CMD INSTALL xmapbridge StartedAt: 2025-11-10 15:07:15 -0500 (Mon, 10 Nov 2025) EndedAt: 2025-11-10 15:07:22 -0500 (Mon, 10 Nov 2025) EllapsedTime: 6.8 seconds RetCode: 0 Status: OK