Package: xmapbridge Version: 1.69.0 Command: /home/biocbuild/bbs-3.23-bioc/R/bin/R CMD build --keep-empty-dirs --no-resave-data xmapbridge StartedAt: 2025-11-10 20:49:52 -0500 (Mon, 10 Nov 2025) EndedAt: 2025-11-10 20:50:11 -0500 (Mon, 10 Nov 2025) EllapsedTime: 19.0 seconds RetCode: 0 Status: OK PackageFile: xmapbridge_1.69.0.tar.gz PackageFileSize: 3.019 MiB