Package: xmapbridge Version: 1.67.0 Command: rm -rf xmapbridge.buildbin-libdir && mkdir xmapbridge.buildbin-libdir && /Users/biocbuild/BBS/utils/build-universal.sh xmapbridge_1.67.0.tar.gz /Library/Frameworks/R.framework/Resources/bin/R xmapbridge.buildbin-libdir StartedAt: 2025-10-01 02:13:45 -0400 (Wed, 01 Oct 2025) EndedAt: 2025-10-01 02:13:52 -0400 (Wed, 01 Oct 2025) EllapsedTime: 7.0 seconds RetCode: 0 Status: OK PackageFile: xmapbridge_1.67.0.tgz PackageFileSize: 1.761 MiB