Package: xenLite Version: 1.1.0 Command: E:\biocbuild\bbs-3.21-bioc\R\bin\R.exe CMD INSTALL xenLite StartedAt: 2025-02-16 16:15:18 -0500 (Sun, 16 Feb 2025) EndedAt: 2025-02-16 16:16:13 -0500 (Sun, 16 Feb 2025) EllapsedTime: 54.6 seconds RetCode: 0 Status: OK