Package: xenLite Version: 1.1.0 Command: /home/biocbuild/bbs-3.21-bioc/R/bin/R CMD check --install=check:xenLite.install-out.txt --library=/home/biocbuild/bbs-3.21-bioc/R/site-library --timings xenLite_1.1.0.tar.gz StartedAt: 2025-02-15 03:24:24 -0500 (Sat, 15 Feb 2025) EndedAt: 2025-02-15 03:29:12 -0500 (Sat, 15 Feb 2025) EllapsedTime: 288.2 seconds RetCode: 0 Status: OK CheckDir: xenLite.Rcheck Warnings: 0