Package: xenLite Version: 1.1.0 Command: /home/biocbuild/bbs-3.21-bioc/R/bin/R CMD build --keep-empty-dirs --no-resave-data xenLite StartedAt: 2025-02-14 19:32:57 -0500 (Fri, 14 Feb 2025) EndedAt: 2025-02-14 19:33:50 -0500 (Fri, 14 Feb 2025) EllapsedTime: 53.0 seconds RetCode: 0 Status: OK PackageFile: xenLite_1.1.0.tar.gz PackageFileSize: 3.249 MiB