Package: xenLite Version: 1.3.0 Maintainer: Vincent Carey MaintainerEmail: stvjc at channing.harvard.edu git_url: https://git.bioconductor.org/packages/xenLite git_branch: devel git_last_commit: b3b7b53 git_last_commit_date: 2025-04-15 13:39:59 -0400 (Tue, 15 Apr 2025)