Package: xcore Version: 1.13.0 Command: rm -rf xcore.buildbin-libdir && mkdir xcore.buildbin-libdir && /Users/biocbuild/BBS/utils/build-universal.sh xcore_1.13.0.tar.gz /Library/Frameworks/R.framework/Resources/bin/R xcore.buildbin-libdir StartedAt: 2025-10-08 23:08:30 -0400 (Wed, 08 Oct 2025) EndedAt: 2025-10-08 23:08:40 -0400 (Wed, 08 Oct 2025) EllapsedTime: 10.2 seconds RetCode: 0 Status: OK PackageFile: xcore_1.13.0.tgz PackageFileSize: 1.913 MiB