Package: xcms Version: 4.7.3 Command: /home/biocbuild/bbs-3.22-bioc/R/bin/R CMD check --install=check:xcms.install-out.txt --library=/home/biocbuild/bbs-3.22-bioc/R/site-library --timings xcms_4.7.3.tar.gz StartedAt: 2025-10-20 06:14:14 -0400 (Mon, 20 Oct 2025) EndedAt: 2025-10-20 06:40:43 -0400 (Mon, 20 Oct 2025) EllapsedTime: 1588.9 seconds RetCode: 0 Status: OK CheckDir: xcms.Rcheck Warnings: 0