Package: xcms Version: 4.7.2 Command: /Library/Frameworks/R.framework/Resources/bin/R CMD build --keep-empty-dirs --no-resave-data xcms StartedAt: 2025-07-24 19:26:02 -0400 (Thu, 24 Jul 2025) EndedAt: 2025-07-24 19:30:25 -0400 (Thu, 24 Jul 2025) EllapsedTime: 262.7 seconds RetCode: 0 Status: OK PackageFile: xcms_4.7.2.tar.gz PackageFileSize: 8.863 MiB