Package: xCell2 Version: 0.99.108 Command: E:\biocbuild\bbs-3.21-bioc\R\bin\R.exe CMD check --no-multiarch --install=check:xCell2.install-out.txt --library=E:\biocbuild\bbs-3.21-bioc\R\library --no-vignettes --timings xCell2_0.99.108.tar.gz StartedAt: 2025-02-05 06:58:35 -0500 (Wed, 05 Feb 2025) EndedAt: 2025-02-05 07:05:26 -0500 (Wed, 05 Feb 2025) EllapsedTime: 411.4 seconds RetCode: 0 Status: OK CheckDir: xCell2.Rcheck Warnings: 0