Package: xCell2 Version: 0.99.108 Command: chmod a+r xCell2 -R && E:\biocbuild\bbs-3.21-bioc\R\bin\R.exe CMD build --keep-empty-dirs --no-resave-data xCell2 StartedAt: 2025-02-04 22:21:33 -0500 (Tue, 04 Feb 2025) EndedAt: 2025-02-04 22:23:24 -0500 (Tue, 04 Feb 2025) EllapsedTime: 111.6 seconds RetCode: 0 Status: OK PackageFile: xCell2_0.99.108.tar.gz PackageFileSize: 2.866 MiB